Workbook

Sheet Sheet5
A1: (1)VOTE | B1: FIRST SCHEDULE | C1: (2) SUPPLY
A2: NO.
A3: R101 | B3: County Assembly | C3: 963697525 | D3: 57553443 | E3: =C3+D3 -> 1021250968
A4: R102 | B4: County Executive | C4: 479512621 | D4: 35300000 | E4: =C4+D4 -> 514812621
A5: R103 | B5: Department of Finance and economic planning | C5: 1185583241 | D5: 70000000 | E5: =C5+D5 -> 1255583241
A6: R104 | B6: Department of Agriculture | C6: 443274069 | D6: 643011351 | E6: =C6+D6 -> 1086285420
A7: R105 | B7: Department of Environment and Natural Resources | C7: 195244842 | D7: 231501673 | E7: =C7+D7 -> 426746515
A8: R106 | B8: Department of Education Youth Affairs and Social development | C8: 620777713 | D8: 156343034 | E8: =C8+D8 -> 777120747 | F8: 777120747 | G8: =F8-E8 -> 0
A9: R107 | B9: Department of County Health Services | C9: 3418239511 | D9: 939494291 | E9: =C9+D9 -> 4357733802 | F9: 4357733802 | G9: =F9-E9 -> 0
A10: R108 | B10: Department of Physical Planning and Urban development | C10: 93357240 | D10: 95183915 | E10: =C10+D10 -> 188541155
A11: R109 | B11: Department of Public Works Transport and Housing | C11: 213000000 | D11: 1284400371 | E11: =C11+D11 -> 1497400371 | F11: 1497400371 | G11: =F11-E11 -> 0
A12: R110 | B12: Department of Trade Development and Regulations | C12: 82738837 | D12: 106746642 | E12: =C12+D12 -> 189485479
A13: R111 | B13: Department of Culture and Social Services | C13: 77256460 | D13: 202025502 | E13: =C13+D13 -> 279281962
A14: R112 | B14: Kisii Town | C14: 116755459 | D14: 248717745 | E14: =C14+D14 -> 365473204
A15: R113 | B15: County Administration and Stakeholders Management | C15: 675120059 | D15: 36445396 | E15: =C15+D15 -> 711565455 | F15: 711565455 | G15: =F15-E15 -> 0
B16: TOTAL RECURRENT | C16: =SUM(C3:C15) -> 8564557577 | D16: =SUM(D3:D15) -> 4106723363 | E16: =SUM(E3:E15) -> 12671280940
A22: DEVELOPMENT EXPENDITURE
A23: (1)VOTE | B23: SECOND SCHEDULE | C23: (2) SUPPLY
A24: NO.
A25: D 101 | B25: County Assembly | C25: 57553443
A26: D 102 | B26: County Executive | C26: 35300000
A27: D 103 | B27: Department of Finance and economic planning | C27: 70000000
A28: D 104 | B28: Department of Agriculture | C28: 643011351
A29: D 105 | B29: Department of Environment and Natural Resources | C29: 231501673
A30: D 106 | B30: Department of Education Youth Affairs and Social development | C30: 153843034
A31: D 107 | B31: Department of County Health Services | C31: 939494291
A32: D 108 | B32: Department of Physical Planning and Urban development | C32: 95183915
A33: D 109 | B33: Department of Public Works Transport and Housing | C33: 1281400371
A34: D 110 | B34: Department of Trade Development and Regulations | C34: 106746642
A35: D 111 | B35: Department of Culture and Social Services | C35: 202025502
A36: D 112 | B36: Kisii Town | C36: 248717745
A37: D113 | B37: County Administration and Stakeholders Management | C37: 37445396
B38: TOTAL DEVELOPMENT | C38: 4102223363

Sheet Sheet3

Sheet PERSONEL EMOLUMENTS
A1: KISII COUNTY GOVERNMENT
A2: PERSONNEL BUDGET
A3: FINANCIAL YEAR 2017/ 2018
B4: DEPARTMENT | C4: NO OF EMPLOYEES | D4: BASIC SALARY | E4: HOUSE ALLOWANCE | F4: COMMUTER | G4: SPECIAL DUTY ALLOWANCE | H4: RESPONSIBILTY ALLOWANCE | I4: HEALTH RISK ALLOWANCE | J4: UNIFORM ALLOWANCE | K4: EMERGECY CALL ALLOWANCE | L4: OTHER ALLOWANCES | M4: EXTRANEOUS ALLOWANCE | N4: NON PRACTISING ALLOWANCE | O4: ACTING ALLOWANCE | P4: TELEPHONE ALLOWANCE | Q4: GRATUITY | R4: COUNTY CONTRIBUTION TO PENSION | S4: LEAVE ALLOWANCE | T4: TOTAL ANNUAL PERSONEL BUDGET
A5: 1 | B5: OFFICE OF THE GOVERNOR AND DEPUTY GOVERNOR
B6: IN PAYROLL
B7: NOT IN PAYROLL
B8: SUB-TOTAL
A9: 2 | B9: COUNTY ADMINISTRATION
B10: IN PAYROLL
B11: NOT IN PAYROLL
B12: SUB-TOTAL
A13: 3 | B13: COUNTY PUBLIC SERVICE
B14: IN PAYROLL
B15: NOT IN PAYROLL
B16: SUB-TOTAL
A17: 4 | B17: FINANCE AND ECONOMIC PLANNING
B18: IN PAYROLL
B19: NOT IN PAYROLL
B20: SUB-TOTAL
A21: 5 | B21: AGRICULTURE
B22: IN PAYROLL
B23: NOT IN PAYROLL
B24: SUB-TOTAL
A25: 6 | B25: ENVIRONMENT
B26: IN PAYROLL
B27: NOT IN PAYROLL
B28: SUB-TOTAL
A29: 7 | B29: EDUCATION
B30: IN PAYROLL
B31: Instructors to be absorbed from national govt
B32: New employees (ECD and polytechnic instructors)
B33: SUB-TOTAL
A34: 8 | B34: HEALTH
B35: IN PAYROLL
B36: DANIDA Personnel Costs
B37: NOT IN PAYROLL
B38: SUB-TOTAL
A39: 9 | B39: LAND, PHYSICAL PLANNING AND URBAN DEVELOPMENT
B40: IN PAYROLL | S40: =6000*C40 -> 0 | T40: =SUM(D40:S40) -> 0
...

Sheet Sheet2

Sheet Sheet1

Sheet PROJECT SUMMARY
A1: KISII COUNTY GOVERNMENT
A2: PROJECTS SUMMARY
A3: DEPARTMENT | B3: PROPOSED BUDGET 2019/2020
A4: OFFICE OF THE GOVERNOR AND DEPUTY GOVERNOR | B4: 200000000
A5: KISII COUNTY ASSEMBLY
A6: COUNTY ADMINISTRATION
A7: STAKEHOLDER MANAGEMENT
A8: FINANCE AND ACCOUNTING
A9: ECONOMIC PLANNING
A10: FISHERIES, LIVESTOCK AND VETERINARY SERVICES
A11: AGRICULTURE AND COOPERATIVES DEVELOPMENT
A12: ENVIRONMENT
A13: WATER AND SANITATION SERVICES
A14: EDUCATION
A15: MEDICAL SERVICES
A16: LANDS, PHYSICAL PLANNING AND URBAN DEVELOPMENT
... A22: TOTAL

Sheet Revenue
A1: REVENUE BUDGET FOR FY2024/2025
A2: ITEM | B2: APPROVED REVISED BUDGET 2023/24 BUDGET 2023/24 | C2: PROPOSED BUDGET 2024/25
A3: Equitable Share | B3: 9258588608 | C3: 9393032943
A4: Leasing of Medical Equipment | B4: 124723404 | C4: 0
A5: Aquaculture Business Development Programme | B5: 23165743 | C5: 0
A6: National Agricultural and Rural Inclusive Project | B6: 5000000 | C6: 0
A7: Agriculture Sector Development Support Program - SIDA | B7: 3168601 | C7: 0
A8: Industrial Park | B8: 0 | C8: 250000000
A9: Library Services | B9: 8557807 | C9: 0
A10: National Agricultural Value Chain Development Project (NAVCDP)-World Bank Credit | B10: 250000000 | C10: 151515152
A11: DANIDA | B11: 14206500 | C11: 11992500
A12: Livestock Value Chain Support Program- Poland | B12: 35809200 | C12: 0
A13: Provision of Fertilizer Subsidy | B13: 186645942 | C13: 0
A14: Allocation for Mineral Royalties | B14: 682562 | C14: 117616
A15: Finance for Locally-Led Climate Action Program (FLLoCA) County Climate Institutional Support (CCIS) Grant | B15: 22000000 | C15: 11000000
A16: Finance for Locally-Led Climate Action Program (FLLoCA) County Climate Resilient Investment Grant | B16: 160992006
A17: Finance for Locally-Led Climate Action Program (FLLoCA) County Climate Resilient Investment Grant (KfW) | B17: 84121480
A18: KDSP II | C18: 37500000
A19: Community Health Promoters (CHPs) | C19: 69096481
A20: Road maintenance Levy Fund (RMLF) | C20: 179407700
A21: Kenya Urban Support Programme (KUSP) Urban Institution Grant | C21: 35000000
A22: Construction of Cancer Center | B22: 0
A23: Unspent balances FY 2023/2024 | B23: 2432460031 | C23: =1737726321+9640307 -> 1747366628
A24: Local Revenues | B24: =B50 -> 650000000 | C24: 650000000
A25: TOTAL REVENUE | B25: =SUM(B3:B24) -> 13260121884 | C25: =SUM(C3:C24) -> 12536029020
A26: LOCAL REVENUE ITEMIZATION
A27: LOCAL LEVIES: 1-2000
A28: 1-2101 Property rates | B28: 25000000
A29: 1-2201 Business Permits Current Year | B29: 200000000
A30: 1-2311 Fruits & Vegetables / AgriculturalProduce Cess | B30: 20000000
A31: 1-3105 Miscellenous income | B31: 3500000
A32: 1-3501 County Premises Monthly Rent | B32: 10000000
A33: 1-5101 Market Entrance / Gate Fee | B33: 90000000
A34: 1-5102 Market Plots Rent | B34: 15000000
A35: 1-5201 Enclosed Bus Park Fee(Matatu monthly stickers) | B35: 76000000
A36: Motorcycle parking stickers | B36: 30000000
A37: 1-5221 Street Parking Fee | B37: 50000000
A38: 1-6301 Social Hall Hire | B38: 500000
A39: 1-6311 Stadium Hire | B39: 1000000
... A49: Revenue from Kisii Agricultural Training Centre | B49: 2000000
...

Sheet GRAND SUMMARY
A1: SUMMARY OF RECURRENT AND DEVELOPMENT EXPENDITURE
A2: DEPARTMENT | B2: REVENUE | C2: PERSONEL EMOLUMENTS | D2: TOTAL OPERATIONS AND MAINTENANCE | E2: RECURRENT | F2: DEVELOPMENT | G2: APPROVED REVISED BUDGET 2022/23 | H2: PROPOSED BUDGET 2024/25 | I2: APPROVED REVISED BUDGET 2023/2024 | J2: FSP Ceilings | L2: PE
A3: COUNTY ASSEMBLY | C3: =' ASSEMBLY'!G104 -> 653202051 | D3: =' ASSEMBLY'!G86+' ASSEMBLY'!G209-30000000 -> 499910949 | E3: =SUM(C3:D3) -> 1153113000 | F3: =' ASSEMBLY'!G226 -> 30000000 | G3: ='COUNTY ASSEMBLY'!C246 -> 1509980447 | H3: =SUM(E3:F3) -> 1183113000 | I3: 1387381974 | J3: 1183113000 | K3: =H3-J3 -> 0 | L3: 622071233 | M3: =L3-C3 -> -31130818
A4: EXECUTIVE OFFICE OF THE GOVERNOR | C4: =EXECUTIVE!F16 -> 250000000 | D4: =EXECUTIVE!F193 -> 133730000 | E4: =SUM(C4:D4) -> 383730000 | F4: ='SUMMARY Deve'!D3 -> 200000000 | G4: =EXECUTIVE!#REF!+'PROJECTS DETAILS'!#REF! -> #REF! | H4: =SUM(E4:F4) -> 583730000 | I4: 553146720 | J4: 600114950 | K4: =J4-H4-H5 -> 0 | L4: 250000000 | M4: =L4-C4 -> 0
A5: COUNTY PUBLIC SERVICE BOARD | C5: 0 | D5: =CPSB!F67 -> 16384950 | E5: =SUM(C5:D5) -> 16384950 | F5: 0 | G5: =CPSB!#REF! -> #REF! | H5: =SUM(E5:F5) -> 16384950 | I5: 18329000
A6: PUBLIC SERVICE AND COUNTY ADMINISTRATION | C6: =ADMINISTRATION!F15 -> 428796982 | D6: =ADMINISTRATION!F147 -> 86712701 | E6: =SUM(C6:D6) -> 515509683 | F6: ='SUMMARY Deve'!D5 -> 29800000 | G6: 462546797 | H6: =SUM(E6:F6) -> 545309683 | I6: 557933501 | J6: 608528145 | K6: =J6-H6-H7 -> 0 | L6: 468100000 | M6: =L6-C6-C7 -> 0
A7: PUBLIC PARTICIPATION, DISASTER SERVICES AND SPECIAL PROGRAMMES | C7: =STAKEHOLDER!F13 -> 39303018 | D7: =STAKEHOLDER!F110 -> 13715444 | E7: =SUM(C7:D7) -> 53018462 | F7: ='SUMMARY Deve'!D6 -> 10200000 | G7: ='PROJECTS DETAILS'!#REF!+STAKEHOLDER!#REF! -> #REF! | H7: =SUM(E7:F7) -> 63218462 | I7: 79853018
A8: FINANCE, ACCOUNTING SERVICES AND REVENUE MANAGEMENT | B8: =Revenue!C25 -> 12536029020 | C8: =FINANCE!F16 -> 457136160 | D8: =FINANCE!F219 -> 503900000 | E8: =SUM(C8:D8) -> 961036160 | F8: 0 | G8: =FINANCE!#REF! -> #REF! | H8: =SUM(E8:F8) -> 961036160 | I8: 938339170 | J8: 1305000000 | K8: =J8-H8-H9 -> 0 | L8: 530000000 | M8: =L8-C8-C9 -> 0
A9: ECONOMIC PLANNING AND ICT SERVICES | C9: =PLANNING!F14 -> 72863840 | D9: =PLANNING!F165 -> 46100000 | E9: =SUM(C9:D9) -> 118963840 | F9: ='SUMMARY Deve'!D8 -> 225000000 | G9: 165091154 | H9: =SUM(E9:F9) -> 343963840 | I9: 309563828
A10: AGRICULTURE AND COOPERATIVES DEVELOPMENT | C10: ='AGRIC & COOP'!F16 -> 168975432 | D10: ='AGRIC & COOP'!F169 -> 10406497 | E10: =SUM(C10:D10) -> 179381929 | F10: ='SUMMARY Deve'!D10 -> 337025773 | G10: 365911128 | H10: =SUM(E10:F10) -> 516407702 | I10: 782115201 | J10: 740812995 | K10: =J10-H10-H11 -> 0 | L10: 270000000 | M10: =L10-C10-C11 -> 0
A11: FISHERIES, LIVESTOCK AND VETERINARY SERVICES | C11: ='LIVESTOCK & VET'!F15 -> 101024568 | D11: ='LIVESTOCK & VET'!F148 -> 10406497 | E11: =SUM(C11:D11) -> 111431065 | F11: ='SUMMARY Deve'!D9 -> 112974228 | G11: 437961003 | H11: =SUM(E11:F11) -> 224405293 | I11: 260959880
A12: WATER, ENVIRONMENT, NATURAL RESOURCES, ENERGY AND CLIMATE CHANGE | C12: ='WATER, ENERGY, ENVIRONMENT AND '!F13 -> 70000000 | D12: ='WATER, ENERGY, ENVIRONMENT AND '!F83 -> 43166382 | E12: =SUM(C12:D12) -> 113166382 | F12: ='SUMMARY Deve'!D11 -> 507020000 | G12: 290604377 | H12: =SUM(E12:F12) -> 620186382 | I12: 692385883 | J12: 620186382 | K12: =J12-H12 -> 0 | L12: 70000000 | M12: =L12-C12 -> 0
A13: EDUCATION,TECHNICAL TRAINING & INNOVATION | C13: =EDUCATION!F13 -> 675000000 | D13: =EDUCATION!F92 -> 269859123 | E13: =SUM(C13:D13) -> 944859123 | F13: ='SUMMARY Deve'!D13 -> 100000000 | G13: 723526775 | H13: =SUM(E13:F13) -> 1044859123 | I13: 1153917270 | J13: 1044859123 | K13: =J13-H13 -> 0 | L13: 675000000 | M13: =L13-C13 -> 0
A14: MEDICAL SERVICES, PUBLIC HEALTH AND SANITATION | C14: =MEDICAL!F19 -> 2989204081 | D14: =MEDICAL!F99+'PUBLIC HEALTH'!F81 -> 285705071 | E14: =SUM(C14:D14) -> 3274909152 | F14: ='SUMMARY Deve'!D14 -> 550000000 | G14: =3731518798+29750000 -> 3761268798 | H14: =SUM(E14:F14) -> 3824909152 | I14: 3957430185 | J14: 3824909152 | K14: =J14-H14 -> 0 | L14: 2989204081 | M14: =L14-C14 -> 0
A15: LANDS, PHYSICAL PLANNING , HOUSING AND URBAN DEVELOPMENT | C15: =LANDS!F13 -> 85700000 | D15: =LANDS!F92 -> 25000000 | E15: =SUM(C15:D15) -> 110700000 | F15: ='SUMMARY Deve'!D16 -> 200000000 | G15: 235747982 | H15: =SUM(E15:F15) -> 310700000 | I15: 355795336 | J15: 310700000 | K15: =J15-H15 -> 0 | L15: 85700000 | M15: =L15-C15 -> 0
A16: ROADS | C16: =ROADS!F13 -> 122550000 | D16: =ROADS!F82 -> 62150000 | E16: =SUM(C16:D16) -> 184700000 | F16: ='PROJECTS DETAILS'!G1592 -> 1271537374 | G16: =806552927+144500312 -> 951053239 | H16: =SUM(E16:F16) -> 1456237374 | I16: 1292971559 | J16: 1526537374 | K16: =J16-H16-H17 -> 0 | L16: 190000000 | M16: =L16-C16-C17 -> 0
A17: PUBLIC WORKS | C17: ='PUBLIC WORKS'!F13 -> 67450000 | D17: ='PUBLIC WORKS'!F67 -> 2850000 | E17: =SUM(C17:D17) -> 70300000 | F17: ='PROJECTS DETAILS'!G1602 -> 0 | H17: =SUM(E17:F17) -> 70300000
A18: TRADE,TOURISM, INDUSTRY AND MARKETING | C18: =TRADE!F13 -> 70000000 | D18: =TRADE!F236 -> 15673042 | E18: =SUM(C18:D18) -> 85673042 | F18: ='SUMMARY Deve'!D19 -> 350000000 | G18: =SUM('PROJECTS DETAILS'!#REF!,TRADE!#REF!) -> #REF! | H18: =SUM(E18:F18) -> 435673042 | I18: 378548147 | J18: 435673042 | K18: =J18-H18 -> 0 | L18: 70000000 | M18: =L18-C18 -> 0
A19: YOUTH ,SPORTS, CULTURE, ARTS AND SOCIAL SERVICES | C19: =CULTURE!F13 -> 80000000 | D19: =CULTURE!F137 -> 20852345 | E19: =SUM(C19:D19) -> 100852345 | F19: ='SUMMARY Deve'!D20 -> 15000000 | G19: =SUM('PROJECTS DETAILS'!#REF!,CULTURE!#REF!) -> #REF! | H19: =SUM(E19:F19) -> 115852345 | I19: 208717320 | J19: 115852345 | K19: =J19-H19 -> 0 | L19: 80000000 | M19: =L19-C19 -> 0
A20: KISII MUNICIPALITY | C20: ='KISII MUNICIPALITY'!F13 -> 95000000 | D20: ='KISII MUNICIPALITY'!F101 -> 7957337 | E20: =SUM(C20:D20) -> 102957337 | F20: ='SUMMARY Deve'!D21 -> 80000000 | G20: =SUM('PROJECTS DETAILS'!#REF!,'KISII MUNICIPALITY'!#REF!) -> #REF! | H20: =SUM(E20:F20) -> 182957337 | I20: 272361200 | J20: 182957337 | K20: =J20-H20 -> 0 | L20: 95000000 | M20: =L20-C20 -> 0
A21: OGEMBO MUNICIPALITY | C21: ='OGEMBO MUNICIPALITY '!F13 -> 4300000 | D21: ='OGEMBO MUNICIPALITY '!F116 -> 7485175 | E21: =SUM(C21:D21) -> 11785175 | F21: ='SUMMARY Deve'!D22 -> 25000000 | G21: =SUM('PROJECTS DETAILS'!#REF!,'OGEMBO MUNICIPALITY '!#REF!) -> #REF! | H21: =SUM(E21:F21) -> 36785175 | I21: 60372692 | J21: 36785175 | K21: =J21-H21 -> 0 | L21: 4300000 | M21: =L21-C21 -> 0
A22: TOTAL | B22: =SUM(B3:B20) -> 12536029020 | C22: =SUM(C3:C21) -> 6430506132 | D22: =SUM(D3:D21) -> 2061965513 | E22: =SUM(E3:E21) -> 8492471645 | F22: =SUM(F3:F21) -> 4043557375 | G22: =SUM(G3:G21) -> #REF! | H22: =SUM(H3:H21) -> 12536029020 | I22: =SUM(I3:I21) -> 13260121884 | J22: =SUM(J3:J21) -> 12536029020 | K22: =SUM(K3:K21) -> 0
A23: SURPLUS/DEFICIT | H23: =B22-H22 -> 0

Sheet SUMMARY Deve
A1: SUMMARY OF DEVELOPMENT EXPENDITURE
B2: DEPARTMENT | C2: APPROVED REVISED BUDGET 2023/24 | D2: PROPOSED BUDGET 2024/25
A3: 1 | B3: EXECUTIVE | C3: ='PROJECTS DETAILS'!F8 -> 140000000 | D3: ='PROJECTS DETAILS'!G8 -> 200000000
A4: 2 | B4: PUBLIC SERVICE BOARD | C4: 0 | D4: 0
A5: 3 | B5: ADMINISTRATION | C5: ='PROJECTS DETAILS'!F34 -> 40846072 | D5: ='PROJECTS DETAILS'!G34 -> 29800000
A6: 4 | B6: STAKEHOLDER MANAGEMENT | C6: ='PROJECTS DETAILS'!F44 -> 26000000 | D6: ='PROJECTS DETAILS'!G44 -> 10200000
A7: 5 | B7: FINANCE AND ACCOUNTING SERVICES | C7: 0 | D7: 0
A8: 6 | B8: ECONOMIC PLANNING | C8: ='PROJECTS DETAILS'!F69 -> 159280850 | D8: ='PROJECTS DETAILS'!G69 -> 225000000
A9: 7 | B9: FISHERIES, LIVESTOCK AND VETERINARY SERVICES | C9: ='PROJECTS DETAILS'!F168 -> 136305312 | D9: ='PROJECTS DETAILS'!G168 -> 112974228
A10: 8 | B10: AGRICULTURE AND CO-OPERATIVE DEVELOPMENT | C10: ='PROJECTS DETAILS'!F122 -> 588107919 | D10: ='PROJECTS DETAILS'!G122 -> 337025773
A11: 9 | B11: WATER AND SANITATION SERVICES | C11: ='PROJECTS DETAILS'!F388 -> 541390883 | D11: ='PROJECTS DETAILS'!G388 -> 507020000
A12: 10 | B12: ENERGY, ENVIRONMENT AND NATURAL RESOURCES | C12: 0 | D12: 0
A13: 11 | B13: EDUCATION | C13: ='PROJECTS DETAILS'!F603 -> 143208541 | D13: ='PROJECTS DETAILS'!G603 -> 100000000
A14: 12 | B14: MEDICAL SERVICES | C14: ='PROJECTS DETAILS'!F805 -> 631515312 | D14: ='PROJECTS DETAILS'!G805 -> 550000000
A15: 13 | B15: PUBLIC HEALTH | C15: 0 | D15: 0
A16: 14 | B16: LANDS AND PHYSICAL PLANNING | C16: ='PROJECTS DETAILS'!F866 -> 213845336 | D16: ='PROJECTS DETAILS'!G866 -> 200000000
A17: 15 | B17: ROADS | C17: ='PROJECTS DETAILS'!F1603 -> 1101026264 | D17: ='PROJECTS DETAILS'!G1603 -> 1271537374
A18: 16 | B18: PUBLIC WORKS | C18: 0 | D18: 0
A19: 17 | B19: TRADE | C19: ='PROJECTS DETAILS'!F1666 -> 198848680 | D19: ='PROJECTS DETAILS'!G1666 -> 350000000
A20: 18 | B20: CULTURE | C20: ='PROJECTS DETAILS'!F1708 -> 77462320 | D20: ='PROJECTS DETAILS'!G1708 -> 15000000
A21: 19 | B21: KISII MUNICIPALITY | C21: ='PROJECTS DETAILS'!F1743 -> 127826294 | D21: ='PROJECTS DETAILS'!G1743 -> 80000000
A22: 20 | B22: OGEMBO MUNICIPALITY | C22: ='PROJECTS DETAILS'!F1767 -> 46372692 | D22: ='PROJECTS DETAILS'!G1767 -> 25000000
A23: 21 | B23: COUNTY ASSEMBLY | C23: =' ASSEMBLY'!F226 -> 154491231 | D23: 30000000
B24: TOTAL | C24: =SUM(C3:C23) -> 4326527706 | D24: =SUM(D3:D23) -> 4043557375

Sheet SUMMARY RECURRENT
A1: SUMMARY OF RECURRENT EXPENDITURE
B2: DEPARTMENT | C2: APPROVED BUDGET 2022/23 | D2: PROPOSED BUDGET 2024/2025
A3: 1 | B3: EXECUTIVE | C3: =EXECUTIVE!C194 -> 405146720 | D3: =EXECUTIVE!F194 -> 383730000
A4: 2 | B4: PUBLIC SERVICE BOARD | C4: =CPSB!C67 -> 7460000 | D4: =CPSB!F67 -> 16384950 | E4: 416206720
A5: 3 | B5: ADMINISTRATION | C5: =ADMINISTRATION!C148 -> 519087429 | D5: =ADMINISTRATION!F148 -> 515509683
A6: 4 | B6: STAKEHOLDER MANAGEMENT | C6: =STAKEHOLDER!C111 -> 110353018 | D6: =STAKEHOLDER!F111 -> 53018462
A7: 5 | B7: FINANCE AND ACCOUNTING SERVICES | C7: =FINANCE!C220 -> 962189170 | D7: =FINANCE!F220 -> 961036160
A8: 6 | B8: ECONOMIC PLANNING | C8: =PLANNING!C166 -> 146482978 | D8: =PLANNING!F166 -> 118963840
A9: 7 | B9: FISHERIES, LIVESTOCK AND VETERINARY SERVICES | C9: ='LIVESTOCK & VET'!C149 -> 134524568 | D9: ='LIVESTOCK & VET'!F149 -> 111431065
A10: 8 | B10: AGRICULTURE AND CO-OPERATIVE DEVELOPMENT | C10: ='AGRIC & COOP'!C170 -> 202025432 | D10: ='AGRIC & COOP'!F170 -> 179381929
A11: 9 | B11: WATER AND SANITATION SERVICES | C11: ='WATER, ENERGY, ENVIRONMENT AND '!C102 -> 127495000 | D11: ='WATER, ENERGY, ENVIRONMENT AND '!F102 -> 120186382
A12: 10 | B12: ENERGY, ENVIRONMENT AND NATURAL RESOURCES | C12: ='ENVIRONMENT '!C9 -> 22000000 | D12: ='ENVIRONMENT '!D9 -> 0
A13: 11 | B13: EDUCATION | C13: =EDUCATION!C93 -> 1035000000 | D13: =EDUCATION!F93 -> 944859123
A14: 12 | B14: MEDICAL SERVICES | C14: =MEDICAL!C100 -> 2981137498 | D14: =MEDICAL!F100 -> 3201262671
A15: 13 | B15: PUBLIC HEALTH | C15: ='PUBLIC HEALTH'!C81 -> 24530000 | D15: ='PUBLIC HEALTH'!F81 -> 73646481
A16: 14 | B16: LANDS AND PHYSICAL PLANNING | C16: =LANDS!C113 -> 145700000 | D16: =LANDS!F113 -> 135700000
A17: 15 | B17: ROADS | C17: =ROADS!C83 -> 153750000 | D17: =ROADS!F83 -> 184700000
A18: 16 | B18: PUBLIC WORKS | C18: ='PUBLIC WORKS'!C81 -> 35250000 | D18: ='PUBLIC WORKS'!F81 -> 70300000
A19: 17 | B19: TRADE | C19: =TRADE!C237 -> 153012240 | D19: =TRADE!F237 -> 85673042
A20: 18 | B20: CULTURE | C20: =CULTURE!C138 -> 130105000 | D20: =CULTURE!F138 -> 100852345 | F20: =C20-E20 -> 130105000
A21: 19 | B21: KISII MUNICIPALITY | C21: ='KISII MUNICIPALITY'!C102 -> 115000000 | D21: ='KISII MUNICIPALITY'!F102 -> 102957337
A22: 20 | B22: OGEMBO MUNICIPALITY | C22: ='OGEMBO MUNICIPALITY '!C117 -> 14000000 | D22: ='OGEMBO MUNICIPALITY '!F117 -> 11785175
A23: 21 | B23: COUNTY ASSEMBLY | C23: =' ASSEMBLY'!D213+' ASSEMBLY'!D215 -> 1232890743 | D23: 1153113000 | F23: =C24-F20 -> 8527034796
B24: TOTAL | C24: =SUM(C3:C23) -> 8657139796 | D24: =SUM(D3:D23) -> 8524491645
E25: =E24+'SUMMARY Deve'!#REF! -> #REF!

Sheet PROJECTS DETAILS
B1: KISII COUNTY GOVERNMENT
B2: DEVELOPMENT BUDGET
B3: KISII COUNTY GOVERNMENT | C3: PROJECT LOCATION | D3: APPROVED BUDGET 2023/2024 | E3: ADJUSTMENTS | F3: APPROVED REVISED BUDGET 2023/2024 | G3: PROPOSED BUDGET 2024/2025
B4: OFFICE OF THE GOVERNOR AND DEPUTY GOVERNOR
A5: 3110201 | B5: Completion of Governor's Residence | C5: Kisii Town | D5: 20000000 | E5: 10000000 | F5: =SUM(D5:E5) -> 30000000 | G5: 32000000
A6: 3110202 | B6: Construction of County Headquarters | D6: 100000000 | F6: =SUM(D6:E6) -> 100000000 | G6: 168000000
B7: Construction of car Park and Fence (PSB) | D7: 10000000 | F7: =SUM(D7:E7) -> 10000000
B8: TOTAL COUNTY EXECUTIVE | D8: =SUM(D5:D7) -> 130000000 | E8: =SUM(E5:E7) -> 10000000 | F8: =SUM(F5:F7) -> 140000000 | G8: =SUM(G5:G7) -> 200000000
B9: PUBLIC SERVICE, COUNTY ADMINISTARTION AND PUBLIC PARTICIPATION
B10: PUBLIC SERVICE AND PUBLIC ADMINISTRATION
A11: 3110200 | B11: Completion of ward offices
A12: 3110202 | B12: Completion of ward office (Administration Block) | C12: Bomariba | D12: 1000000 | F12: =SUM(D12:E12) -> 1000000 | G12: 1000000
A13: 3110202 | B13: Completion of ward office (Administration Block) | C13: Bosoti Sengera | D13: 2819120 | F13: =SUM(D13:E13) -> 2819120 | G13: 2819120
A14: 3110202 | B14: Completion of ward office (Administration Block) | C14: Chitago Borabu | D14: 800000 | F14: =SUM(D14:E14) -> 800000 | G14: 800000
A15: 3110202 | B15: Completion of ward office (Administration Block) | C15: Ibeno | D15: 3435170 | E15: 3432250 | F15: =SUM(D15:E15) -> 6867420 | G15: 6867420
A16: 3110202 | B16: Completion of ward office (Administration Block) | C16: Machoge Bassi | D16: 2000000 | F16: =SUM(D16:E16) -> 2000000 | G16: 1000000
A17: 3110202 | B17: Completion of ward office | C17: Masige West | D17: 3059270 | F17: =SUM(D17:E17) -> 3059270 | G17: 3059270
A18: 3110202 | B18: Completion of ward office (Administration Block) | C18: Nyatieko | D18: 1000000 | F18: =SUM(D18:E18) -> 1000000 | G18: 1000000
A19: 3110202 | B19: Completion of ward office (Administration Block) | C19: Riana | D19: 1005087 | E19: 1005084 | F19: =SUM(D19:E19) -> 2010171 | G19: 2010171
B20: SUB TOTAL | D20: =SUM(D12:D19) -> 15118647 | E20: =SUM(E12:E19) -> 4437334 | F20: =SUM(F12:F19) -> 19555981 | G20: =SUM(G12:G19) -> 18555981
A21: 3110202 | B21: Extension of Marani Sub-County office -Phase II | C21: Kitutu Chache North | D21: 9500000 | F21: =SUM(D21:E21) -> 9500000
A22: 3110202 | B22: Construction of County Court | C22: Kisii Central | D22: 3000000 | F22: =SUM(D22:E22) -> 3000000 | G22: 2921978
A23: 3110599 | B23: Fencing of treasury | C23: County Treasury | D23: 3601466 | F23: =SUM(D23:E23) -> 3601466 | G23: 3601466
B24: Construction of Enforcement unit at Daraja mbili | C24: Kitutu Central | E24: 520575 | F24: =SUM(D24:E24) -> 520575 | G24: 520575
B25: Installation of split air conditional in computer server room | C25: Headquarters | E25: 1468050 | F25: =SUM(D25:E25) -> 1468050
B26: SUB TOTAL | D26: =SUM(D21:D25) -> 16101466 | E26: =SUM(E21:E25) -> 1988625 | F26: =SUM(F21:F25) -> 18090091 | G26: =SUM(G21:G25) -> 7044019
B27: Construction of Pit latrines at Ward Offices
A28: 3110299 | B28: Construction of Pit Latrine | C28: Masimba (Nyaribari Masaba) | D28: 800000 | E28: -800000 | F28: =SUM(D28:E28) -> 0 | G28: 1000000
A29: 3110299 | B29: Construction of Toilet Block at County Treasury | C29: Headquarters | D29: 1000000 | F29: =SUM(D29:E29) -> 1000000 | G29: 1000000
A30: 3110299 | B30: Construction of Pit Latrine at Kitutu Chache South Sub County Office | C30: Mosocho | D30: 800000 | F30: =SUM(D30:E30) -> 800000 | G30: 800000
A31: 3110299 | B31: Construction of Pit Latrine at Nyatieko Ward Office | C31: Nyatieko | D31: 600000 | F31: =SUM(D31:E31) -> 600000 | G31: 600000
A32: 3110299 | B32: Construction of Pit Latrine at Bomariba Ward Office | C32: Bomariba | D32: 800000 | F32: =SUM(D32:E32) -> 800000 | G32: 800000
B33: SUB TOTAL | D33: =SUM(D28:D32) -> 4000000 | E33: =SUM(E28:E32) -> -800000 | F33: =SUM(F28:F32) -> 3200000 | G33: =SUM(G28:G32) -> 4200000
B34: TOTAL PUBLIC SERVICE AND COUNTY ADMINISTRATION | D34: =SUM(#REF!,D33,D26,D20) -> #REF! | E34: =SUM(#REF!,E33,E26,E20) -> #REF! | F34: =SUM(,F33,F26,F20) -> 40846072 | G34: =SUM(,G33,G26,G20) -> 29800000
B35: PUBLIC PARTICIPATION, DISASTER SERVICES AND SPECIAL PROGRAMMES
A36: 3110902 | B36: Purchase of Household and Institution appliances ( Thunder Arrestors) | C36: Headquarters | D36: 4000000 | F36: =SUM(D36:E36) -> 4000000 | G36: 4000000
A37: 3111106 | B37: Purchase of Fire fighting Vehicles and Equipment (Pending Payment) | C37: Headquarters | D37: 16600000 | F37: =SUM(D37:E37) -> 16600000
B38: Fire hydrants civil works | C38: Headquarters | D38: 1500000 | F38: =SUM(D38:E38) -> 1500000 | G38: 1500000
A39: 3111120 | B39: Purchase of Rescue Machinery | C39: Headquarters | D39: 3900000 | F39: =SUM(D39:E39) -> 3900000 | G39: 3900000
B40: SUB TOTAL | D40: =SUM(D36:D39) -> 26000000 | E40: =SUM(E36:E39) -> 0 | F40: =SUM(F36:F39) -> 26000000 | G40: =SUM(G36:G39) -> 9400000
...

Sheet EXECUTIVE
A1: OFFICE OF THE GOVERNOR AND DEPUTY GOVERNOR
A2: CHART OF ACCOUNTS -RECURRENT | C2: APPROVED BUDGET 2023/2024 | D2: Adjustments | E2: APPROVED REVISED BUDGET 2023/2024 | F2: PROPOSED BUDGET 2024/2025
A3: 10201 | B3: General Administration, Planning and Support Services
A4: 2100000 | B4: Compensation of Employees
B5: Basic Salaries - Permanent Employees
A6: 2110101 | B6: Basic Salaries | C6: 171102468 | E6: =SUM(C6:D6) -> 171102468 | F6: =SUM(D6:E6) -> 171102468
A7: Sub Total | C7: =SUM(C6) -> 171102468 | D7: =SUM(D6) -> 0 | E7: =SUM(E6) -> 171102468 | F7: =SUM(F6) -> 171102468
B8: Personal Allowance Paid as Part of Salary | E8: =SUM(C8:D8) -> 0 | F8: =SUM(D8:E8) -> 0
A9: 2110301 | B9: House Allowance | C9: 27731233 | E9: =SUM(C9:D9) -> 27731233 | F9: =SUM(D9:E9) -> 27731233
A10: 2110314 | B10: Transport Allowance | C10: 12494305 | E10: =SUM(C10:D10) -> 12494305 | F10: =SUM(D10:E10) -> 12494305
A11: 2110320 | B11: Leave Allowance | C11: 1181240 | E11: =SUM(C11:D11) -> 1181240 | F11: =SUM(D11:E11) -> 1181240
A12: 2110405 | B12: Telephone Allowance | C12: 408113 | E12: =SUM(C12:D12) -> 408113 | F12: =SUM(D12:E12) -> 408113
A13: 2110502 | B13: Other Allowances | C13: 1960000 | E13: =SUM(C13:D13) -> 1960000 | F13: =SUM(D13:E13) -> 1960000
A14: 2120103 | B14: Employer Contribution to Staff Pensions Scheme (Gratuity) | C14: 35122641 | E14: =SUM(C14:D14) -> 35122641 | F14: =SUM(D14:E14) -> 35122641
A15: Sub Total | C15: =SUM(C9:C14) -> 78897532 | D15: =SUM(D9:D14) -> 0 | E15: =SUM(E9:E14) -> 78897532 | F15: =SUM(F9:F14) -> 78897532
A16: Total Salaries and Wages | C16: =C7+C15 -> 250000000 | D16: =D7+D15 -> 0 | E16: =E7+E15 -> 250000000 | F16: =F7+F15 -> 250000000
A17: 2200000 | B17: Use of Goods and Services
B18: Utilities Supplies and Services
A19: 2210101 | B19: Electricity | C19: 6000000 | D19: 1500000 | E19: =SUM(C19:D19) -> 7500000 | F19: 6000000
A20: 2210102 | B20: Water and sewerage charges | C20: 2000000 | E20: =SUM(C20:D20) -> 2000000 | F20: 2000000
A21: Sub Total | C21: =SUM(C19:C20) -> 8000000 | D21: =SUM(D19:D20) -> 1500000 | E21: =SUM(E19:E20) -> 9500000 | F21: =SUM(F19:F20) -> 8000000
B22: Communication, Supplies and Services
A23: 2210201 | B23: Telephone, Telex, Facsmile and Mobile Phone Services | C23: 50000 | E23: =SUM(C23:D23) -> 50000 | F23: 50000
A24: 2210203 | B24: Courier and Postal Services | C24: 200000 | E24: =SUM(C24:D24) -> 200000 | F24: 200000
A25: Sub Total | C25: =SUM(C23:C24) -> 250000 | D25: =SUM(D23:D24) -> 0 | E25: =SUM(E23:E24) -> 250000 | F25: =SUM(F23:F24) -> 250000
B26: Domestic Travel and Subsistence, and Other Transportation Costs
A27: 2210301 | B27: Travel Costs (airlines, bus, railway, mileage allowances, etc.) | C27: 500000 | E27: =SUM(C27:D27) -> 500000 | F27: 200000
A28: 2210302 | B28: Accommodation - Domestic Travel | C28: 4100000 | E28: =SUM(C28:D28) -> 4100000 | F28: 5000000
A29: 2210303 | B29: Daily Subsistence Allowance | C29: 11000000 | E29: =SUM(C29:D29) -> 11000000 | F29: 6000000
A30: 2210304 | B30: Sundry Items (e.g. airport tax, taxis, etc…) | C30: 100000 | E30: =SUM(C30:D30) -> 100000 | F30: 50000
A31: Sub Total | C31: =SUM(C27:C30) -> 15700000 | D31: =SUM(D27:D30) -> 0 | E31: =SUM(E27:E30) -> 15700000 | F31: =SUM(F27:F30) -> 11250000
B32: Foreign Travel and Subsistence, and other transportation costs
A33: 2210401 | B33: Travel Costs (airlines, bus, railway, etc.) | C33: 3000000 | D33: -2000000 | E33: =SUM(C33:D33) -> 1000000 | F33: 2000000
A34: 2210402 | B34: Accommodation | C34: 1300000 | D34: -1300000 | E34: =SUM(C34:D34) -> 0 | F34: 2000000
A35: 2210403 | B35: Daily Subsistence Allowance | C35: 6000000 | D35: -5000000 | E35: =SUM(C35:D35) -> 1000000 | F35: 1000000
A36: 2210404 | B36: Sundry Items (airport tax, taxis, etc…) | C36: 100000 | E36: =SUM(C36:D36) -> 100000 | F36: 100000
A37: Sub Total | C37: =SUM(C33:C36) -> 10400000 | D37: =SUM(D33:D36) -> -8300000 | E37: =SUM(E33:E36) -> 2100000 | F37: =SUM(F33:F36) -> 5100000
B38: Printing , Advertising and Information Supplies and Services
A39: 2210502 | B39: Publishing and Printing Services | C39: 2800000 | E39: =SUM(C39:D39) -> 2800000 | F39: 1000000
A40: 2210503 | B40: Subscriptions to Newspapers, Magazines and Periodicals | C40: 300000 | E40: =SUM(C40:D40) -> 300000 | F40: 100000
...

Sheet EXECUTIVE 1
B2: Code | C2: Programme | D2: Budget Estimates(KShs) | E2: Projected Estimates (KShs)
D3: 2023/2024 | E3: 2024/2025 | F3: 2025/2026
B4: 10201 | C4: General Administration, Planning and Support Services | D4: =D17 -> #REF! | E4: =1.04*D4 -> #REF! | F4: =1.04*E4 -> #REF!
B5: 10202 | C5: County Secretary | D5: =D20 -> 9620000 | E5: =1.04*D5 -> 10004800 | F5: =1.04*E5 -> 10404992
B6: 10203 | C6: Legal Services | D6: =D23 -> 34670000 | E6: =1.04*D6 -> 36056800 | F6: =1.04*E6 -> 37499072
B7: 10204 | C7: Communication Services | D7: =D26 -> 3230000 | E7: =1.04*D7 -> 3359200 | F7: =1.04*E7 -> 3493568
B8: 10205 | C8: Special Programmes | D8: =D29 -> 2960000 | E8: =1.04*D8 -> 3078400 | F8: =1.04*E8 -> 3201536
B9: 10206 | C9: Public Private Partnership | D9: =D32 -> 650000 | E9: =1.04*D9 -> 676000 | F9: =1.04*E9 -> 703040
B10: 10207 | C10: Advisory Services | D10: =D35 -> 7460000 | E10: =1.04*D10 -> 7758400 | F10: =1.04*E10 -> 8068736
B11: 10208 | C11: County Public Service Board | D11: =D38 -> 2620000 | E11: =1.04*D11 -> 2724800 | F11: =1.04*E11 -> 2833792
B12: Total | D12: =SUM(D4:D11) -> #REF! | E12: =SUM(E4:E11) -> #REF! | F12: =SUM(F4:F11) -> #REF!
B15: Code | C15: Programme | D15: Approved Budget Estimates (KShs) | E15: Projected Estimates (KShs)
D16: 2023/2024 | E16: 2024/2025 | F16: 2025/2026
B17: 10201 | C17: General Administration, Planning and Support Services | D17: =D18+D19 -> #REF! | E17: =1.04*D17 -> #REF! | F17: =1.04*E17 -> #REF!
C18: Recurrent Expenditure | D18: =EXECUTIVE!C91 -> 351396720 | E18: =1.04*D18 -> 3.6545259e+08 | F18: =1.04*E18 -> 3.8007069e+08
C19: Development Expenditure | D19: =EXECUTIVE!C97 -> #REF! | E19: =1.04*D19 -> #REF! | F19: =1.04*E19 -> #REF!
B20: 10202 | C20: County Secretary | D20: =D21+D22 -> 9620000 | E20: =1.04*D20 -> 10004800 | F20: =1.04*E20 -> 10404992
C21: Recurrent Expenditure | D21: =EXECUTIVE!C112 -> 9620000 | E21: =1.04*D21 -> 10004800 | F21: =1.04*E21 -> 10404992
C22: Development Expenditure | D22: 0 | E22: =1.04*D22 -> 0 | F22: =1.04*E22 -> 0
B23: 10203 | C23: Legal Services | D23: =D24+D25 -> 34670000 | E23: =1.04*D23 -> 36056800 | F23: =1.04*E23 -> 37499072
C24: Recurrent Expenditure | D24: =EXECUTIVE!C139 -> 34670000 | E24: =1.04*D24 -> 36056800 | F24: =1.04*E24 -> 37499072
C25: Development Expenditure | D25: 0 | E25: =1.04*D25 -> 0 | F25: =1.04*E25 -> 0
B26: 10204 | C26: Communication Services | D26: =D27+D28 -> 3230000 | E26: =1.04*D26 -> 3359200 | F26: =1.04*E26 -> 3493568
C27: Recurrent Expenditure | D27: =EXECUTIVE!C151 -> 3230000 | E27: =1.04*D27 -> 3359200 | F27: =1.04*E27 -> 3493568
C28: Development Expenditure | D28: 0 | E28: =1.04*D28 -> 0 | F28: =1.04*E28 -> 0
B29: 10205 | C29: Governor's Advisors, Service Delivery Unit and Efficiency Monitoring | D29: =D30+D31 -> 2960000 | E29: =1.04*D29 -> 3078400 | F29: =1.04*E29 -> 3201536
C30: Recurrent Expenditure | D30: =EXECUTIVE!C160 -> 2960000 | E30: =1.04*D30 -> 3078400 | F30: =1.04*E30 -> 3201536
C31: Development Expenditure | D31: 0 | E31: =1.04*D31 -> 0 | F31: =1.04*E31 -> 0
B32: 10206 | C32: Chief of Staff | D32: =D33+D34 -> 650000 | E32: =1.04*D32 -> 676000 | F32: =1.04*E32 -> 703040
C33: Recurrent Expenditure | D33: =EXECUTIVE!C165 -> 650000 | E33: =1.04*D33 -> 676000 | F33: =1.04*E33 -> 703040
C34: Development Expenditure | D34: 0 | E34: =1.04*D34 -> 0 | F34: =1.04*E34 -> 0
B35: 10208 | C35: County Public Service Board | D35: =D36+D37 -> 7460000 | E35: =1.04*D35 -> 7758400 | F35: =1.04*E35 -> 8068736
C36: Recurrent Expenditure | D36: =CPSB!C67 -> 7460000 | E36: =1.04*D36 -> 7758400 | F36: =1.04*E36 -> 8068736
C37: Development Expenditure | E37: =1.04*D37 -> 0 | F37: =1.04*E37 -> 0
B38: 10209 | C38: County Liasion Office | D38: =D39+D40 -> 2620000 | E38: =1.04*D38 -> 2724800 | F38: =1.04*E38 -> 2833792
C39: Recurrent Expenditure | D39: =EXECUTIVE!C192 -> 2620000 | E39: =1.04*D39 -> 2724800 | F39: =1.04*E39 -> 2833792
C40: Development Expenditure | E40: =1.04*D40 -> 0 | F40: =1.04*E40 -> 0
B41: Total | D41: =SUM(D17,D20,D23,D26,D29,D32,D35,D38) -> #REF! | E41: =SUM(E17,E20,E23,E26,E29,E32,E35,E38) -> #REF! | F41: =SUM(F17,F20,F23,F26,F29,F32,F35,F38) -> #REF!

Sheet CPSB
A1: COUNTY PUBLIC SERVICE BOARD
A2: CHART OF ACCOUNTS -RECURRENT | C2: APPROVED BUDGET 2023/2024 | D2: Adjustments | E2: APPROVED REVISED BUDGET 2023/2024 | F2: PROPOSED BUDGET 2024/2025
A3: 10208 | B3: County Public Service Board
A4: 2200000 | B4: Use of Goods and Services
B5: Utilities Supplies and Services
A6: 2210101 | B6: Electricity | C6: 120000 | E6: =SUM(C6:D6) -> 120000 | F6: 120000
A7: 2210102 | B7: water and sewarage | C7: 110000 | E7: =SUM(C7:D7) -> 110000 | F7: 110000
A8: Sub Total | C8: =SUM(C6:C7) -> 230000 | D8: =SUM(D6:D7) -> 0 | E8: =SUM(E6:E7) -> 230000 | F8: =SUM(F6:F7) -> 230000
B9: Communication, Supplies and Services
A10: 2210201 | B10: Telephone, Telex, Facsmile and Mobile Phone Services | E10: =SUM(C10:D10) -> 0
A11: 2210203 | B11: Courier and Postal Services | C11: 10000 | E11: =SUM(C11:D11) -> 10000 | F11: 20000
A12: Sub Total | C12: =SUM(C11) -> 10000 | D12: =SUM(D11) -> 0 | E12: =SUM(E11) -> 10000 | F12: =SUM(F11) -> 20000
B13: Domestic Travel and Subsistence, and Other Transportation Costs
A14: 2210301 | B14: Travel Costs (airlines, bus, railway, mileage allowances, etc.) | C14: 300000 | E14: =SUM(C14:D14) -> 300000 | F14: 500000
A15: 2210302 | B15: Accommodation - Domestic Travel | E15: =SUM(C15:D15) -> 0
A16: 2210303 | B16: Daily Subsistence Allowance | C16: 1000000 | D16: 1000000 | E16: =SUM(C16:D16) -> 2000000 | F16: 2000000
A17: Sub Total | C17: =SUM(C14:C16) -> 1300000 | D17: =SUM(D14:D16) -> 1000000 | E17: =SUM(E14:E16) -> 2300000 | F17: =SUM(F14:F16) -> 2500000
B18: Foreign Travel and Subsistence, and other transportation costs | E18: =SUM(C18:D18) -> 0
A19: 2210401 | B19: Travel Costs (airlines, bus, railway, etc.) | C19: 0 | E19: =SUM(C19:D19) -> 0
A20: 2210402 | B20: Accomodation | C20: 0 | E20: =SUM(C20:D20) -> 0
A21: Sub Total | C21: 0 | E21: =SUM(C21:D21) -> 0
B22: Printing , Advertising and Information Supplies and Services
A23: 2210502 | B23: Publishing and Printing Services | E23: =SUM(C23:D23) -> 0
A24: 2210503 | B24: Subscriptions to Newspapers, Magazines and Periodicals | C24: 100000 | E24: =SUM(C24:D24) -> 100000 | F24: 100000
A25: 2210504 | B25: Advertising, Awareness and Publicity Campaigns | C25: 800000 | D25: 200000 | E25: =SUM(C25:D25) -> 1000000 | F25: 1500000
A26: Sub Total | C26: =SUM(C24:C25) -> 900000 | D26: =SUM(D24:D25) -> 200000 | E26: =SUM(E24:E25) -> 1100000 | F26: =SUM(F24:F25) -> 1600000
B27: Rentals of Produced Assets
A28: 2210603 | B28: Rents and Rates - Non-Residential | C28: 320000 | E28: =SUM(C28:D28) -> 320000 | F28: 320000
A29: Sub Total | C29: =SUM(C28) -> 320000 | D29: =SUM(D28) -> 0 | E29: =SUM(E28) -> 320000 | F29: =SUM(F28) -> 320000
B30: Training Expense (including capacity building)
A31: 2210702 | B31: Remuneration of Instructors and Contract Based Training Services | C31: 1000000 | E31: =SUM(C31:D31) -> 1000000 | F31: 1000000
A32: 2210711 | B32: Tution Fee allowance | C32: 500000 | D32: 500000 | E32: =SUM(C32:D32) -> 1000000 | F32: 1500000
A33: 2210710 | B33: Accommodation Allowance | E33: =SUM(C33:D33) -> 0
A34: 2210715 | B34: Kenya School of Government | C34: 1000000 | E34: =SUM(C34:D34) -> 1000000 | F34: 1000000
A35: Sub Total | C35: =SUM(C31:C34) -> 2500000 | D35: =SUM(D31:D34) -> 500000 | E35: =SUM(E31:E34) -> 3000000 | F35: =SUM(F31:F34) -> 3500000
B36: Hospitality Supplies and Services
A37: 2210801 | B37: Catering Services (receptions), Accommodation, Gifts, Food and Drinks | C37: 300000 | D37: 750000 | E37: =SUM(C37:D37) -> 1050000
A38: 2210802 | B38: Boards, Committees, Conferences and Seminars | C38: 200000 | D38: 600000 | E38: =SUM(C38:D38) -> 800000
A39: Sub Total | C39: =SUM(C37:C38) -> 500000 | D39: =SUM(D37:D38) -> 1350000 | E39: =SUM(E37:E38) -> 1850000 | F39: =SUM(F37:F38) -> 0
B40: Specialised Materials and Supplies | E40: =SUM(C40:D40) -> 0
...

Sheet ADMINISTRATION
A1: PUBLIC SERVICE AND COUNTY ADMINISTRATION | B1: q
A2: CHART OF ACCOUNTS -RECURRENT | C2: APPROVED BUDGET 2023/2024 | D2: Adjustments | E2: APPROVED REVISED BUDGET 2023/2024 | F2: PROPOSED BUDGET 2024/2025
A3: 103 | B3: Administration, Enforcement and Devolved Services
A4: 10301 | B4: General Administration, Planning and Support Services
A5: 2100000 | B5: Compensation of Employees
B6: Basic Salaries - Permanent Employees
A7: 2110101 | B7: Basic Salaries | C7: 306920140 | E7: =SUM(C7:D7) -> 306920140 | F7: 306920140
A8: Sub Total | C8: =SUM(C7) -> 306920140 | D8: =SUM(D7) -> 0 | E8: =SUM(E7) -> 306920140 | F8: =SUM(F7) -> 306920140
B9: Personal Allowance Paid as Part of Salary
A10: 2110301 | B10: House Allowance | C10: 73876525 | E10: =SUM(C10:D10) -> 73876525 | F10: 73876525
A11: 2110314 | B11: Transport Allowance | C11: 38529214 | E11: =SUM(C11:D11) -> 38529214 | F11: 38529214
A12: 2110502 | B12: Other Allowances | C12: 4039790 | E12: =SUM(C12:D12) -> 4039790 | F12: 4039790
A13: 2110320 | B13: Leave Allowance | C13: 5431313 | E13: =SUM(C13:D13) -> 5431313 | F13: 5431313
A14: Sub Total | C14: =SUM(C10:C13) -> 121876842 | D14: =SUM(D10:D13) -> 0 | E14: =SUM(E10:E13) -> 121876842 | F14: =SUM(F10:F13) -> 121876842
A15: Total Salaries and Wages | C15: =C8+C14 -> 428796982 | D15: =D8+D14 -> 0 | E15: =E8+E14 -> 428796982 | F15: =F8+F14 -> 428796982
A16: 2200000 | B16: Use of Goods and Services
B17: Utilities Supplies and Services | E17: =SUM(C17:D17) -> 0
A18: 2210101 | B18: Electricity | E18: =SUM(C18:D18) -> 0
A19: Sub Total | C19: 0 | E19: =SUM(C19:D19) -> 0
B20: Communication, Supplies and Services | E20: =SUM(C20:D20) -> 0
A21: 2210201 | B21: Telephone, Telex, Facsmile and Mobile Phone Services | E21: =SUM(C21:D21) -> 0
A22: Sub Total | C22: 0 | E22: =SUM(C22:D22) -> 0
B23: Domestic Travel and Subsistence, and Other Transportation Costs
A24: 2210301 | B24: Travel Costs (airlines, bus, railway, mileage allowances, etc.) | C24: 300000 | E24: =SUM(C24:D24) -> 300000 | F24: 200000
A25: 2210302 | B25: Accommodation - Domestic Travel | C25: 500000 | E25: =SUM(C25:D25) -> 500000 | F25: 100000
A26: 2210303 | B26: Daily Subsistence Allowance | C26: 1200000 | E26: =SUM(C26:D26) -> 1200000 | F26: 2000000
A27: Sub Total | C27: =SUM(C24:C26) -> 2000000 | D27: =SUM(D24:D26) -> 0 | E27: =SUM(E24:E26) -> 2000000 | F27: =SUM(F24:F26) -> 2300000
B28: Foreign Travel and Subsistence, and other transportation costs | E28: =SUM(C28:D28) -> 0
A29: 2210401 | B29: Travel Costs (airlines, bus, railway, etc.) | C29: 0 | E29: =SUM(C29:D29) -> 0
A30: 2210402 | B30: Accommodation | C30: 0 | E30: =SUM(C30:D30) -> 0
A31: 2210403 | B31: Daily Subsistence Allowance | C31: 0 | E31: =SUM(C31:D31) -> 0
A32: Sub Total | C32: 0 | E32: =SUM(C32:D32) -> 0
B33: Printing , Advertising and Information Supplies and Services | E33: =SUM(C33:D33) -> 0
A34: 2210502 | B34: Publishing and Printing Services | E34: =SUM(C34:D34) -> 0
A35: 2210504 | B35: Advertising, Awareness and Publicity Campaigns | E35: =SUM(C35:D35) -> 0
A36: 2210505 | B36: Trade Shows and Exhibitions | E36: =SUM(C36:D36) -> 0
A37: Sub Total | C37: 0 | E37: =SUM(C37:D37) -> 0
B38: Training Expense (including capacity building) | E38: =SUM(C38:D38) -> 0
A39: 2210701 | B39: Travel Allowance | C39: 0 | E39: =SUM(C39:D39) -> 0
A40: 2210710 | B40: Accommodation Allowance | C40: 0 | E40: =SUM(C40:D40) -> 0
...

Sheet ADMIN 1
B2: Code | C2: Programme | D2: Budget Estimates(KShs) | E2: Projected Estimates (KShs)
D3: 2023/2024 | E3: 2024/2025 | F3: 2025/2026
B4: 10301 | C4: General Administration, Planning and Support Services | D4: =D19 -> 488621883 | E4: =1.04*D4 -> 5.0816676e+08 | F4: =1.04*E4 -> 5.2849343e+08
B5: 10302 | C5: Devolved Services | D5: =D22 -> 80151085 | E5: =1.04*D5 -> 83357128 | F5: =1.04*E5 -> 86691414
B6: 10303 | C6: Human Resource Services | D6: =D25 -> 4500000 | E6: =1.04*D6 -> 4680000 | F6: =1.04*E6 -> 4867200
B7: 10304 | C7: Enforcement Services | D7: =D28 -> 14908000 | E7: =1.04*D7 -> 15504320 | F7: =1.04*E7 -> 16124493
B8: 10305 | C8: Stakeholder Management | D8: =D31 -> 43203018 | E8: =1.04*D8 -> 44931139 | F8: =1.04*E8 -> 46728384
B9: 10306 | C9: Public Participation and Civic Education | D9: =D34 -> 6700000 | E9: =1.04*D9 -> 6968000 | F9: =1.04*E9 -> 7246720
B10: 10307 | C10: Disaster Management and Rescue Services | D10: =D37 -> 54050000 | E10: =1.04*D10 -> 56212000 | F10: =1.04*E10 -> 58460480
B11: 10308 | C11: Fleet Management | D11: =D41 -> 5766014 | E11: =E41 -> 5996654.6 | F11: =F41 -> 6236520.7
B12: 10309 | C12: Strategy Delivery & Project Management | D12: =D43 -> 2700000 | E12: =E43 -> 2808000 | F12: =F43 -> 2920320
B13: 10310 | C13: Special Programmes | D13: =D46 -> 72400000 | E13: =E46 -> 75296000 | F13: =F46 -> 78307840
B14: Total | D14: =SUM(D4:D13) -> 773000000 | E14: =SUM(E4:E13) -> 803920000 | F14: =SUM(F4:F13) -> 8.360768e+08
B17: Code | C17: Programme | D17: Approved Budget Estimates (KShs) | E17: Projected Estimates (KShs)
D18: 2023/2024 | E18: 2024/2025 | F18: 2025/2026
B19: 10301 | C19: General Administration, Planning and Support Services | D19: =D20+D21 -> 488621883 | E19: =1.04*D19 -> 5.0816676e+08 | F19: =1.04*E19 -> 5.2849343e+08
C20: Recurrent Expenditure | D20: =ADMINISTRATION!C91 -> 488621883 | E20: =1.04*D20 -> 5.0816676e+08 | F20: =1.04*E20 -> 5.2849343e+08
C21: Development Expenditure | D21: 0 | E21: =1.04*D21 -> 0 | F21: =1.04*E21 -> 0
B22: 10302 | C22: Devolved Services | D22: =D23+D24 -> 80151085 | E22: =1.04*D22 -> 83357128 | F22: =1.04*E22 -> 86691414
C23: Recurrent Expenditure | D23: =ADMINISTRATION!C103 -> 2591532 | E23: =1.04*D23 -> 2695193.3 | F23: =1.04*E23 -> 2803001
C24: Development Expenditure | D24: =ADMINISTRATION!C109 -> 77559553 | E24: =1.04*D24 -> 80661935 | F24: =1.04*E24 -> 83888413
B25: 10303 | C25: Human Resource Services | D25: =D26+D27 -> 4500000 | E25: =1.04*D25 -> 4680000 | F25: =1.04*E25 -> 4867200
C26: Recurrent Expenditure | D26: =ADMINISTRATION!C122 -> 4500000 | E26: =1.04*D26 -> 4680000 | F26: =1.04*E26 -> 4867200
C27: Development Expenditure | D27: 0 | E27: =1.04*D27 -> 0 | F27: =1.04*E27 -> 0
B28: 10304 | C28: Enforcement Services | D28: =D29+D30 -> 14908000 | E28: =1.04*D28 -> 15504320 | F28: =1.04*E28 -> 16124493
C29: Recurrent Expenditure | D29: =ADMINISTRATION!C132 -> 14908000 | E29: =1.04*D29 -> 15504320 | F29: =1.04*E29 -> 16124493
C30: Development Expenditure | D30: 0 | E30: =1.04*D30 -> 0 | F30: =1.04*E30 -> 0
B31: 10305 | C31: Stakeholder Management | D31: =D32+D33 -> 43203018 | E31: =1.04*D31 -> 44931139 | F31: =1.04*E31 -> 46728384
C32: Recurrent Expenditure | D32: =STAKEHOLDER!C60 -> 43203018 | E32: =1.04*D32 -> 44931139 | F32: =1.04*E32 -> 46728384
C33: Development Expenditure | E33: =1.04*D33 -> 0 | F33: =1.04*E33 -> 0
B34: 10306 | C34: Public Participation and Civic Education | D34: =D35+D36 -> 6700000 | E34: =1.04*D34 -> 6968000 | F34: =1.04*E34 -> 7246720
C35: Recurrent Expenditure | D35: =STAKEHOLDER!C73 -> 6700000 | E35: =1.04*D35 -> 6968000 | F35: =1.04*E35 -> 7246720
C36: Development Expenditure | E36: =1.04*D36 -> 0 | F36: =1.04*E36 -> 0
B37: 10307 | C37: Disaster Management and Rescue Services | D37: =D38+D39 -> 54050000 | E37: =1.04*D37 -> 56212000 | F37: =1.04*E37 -> 58460480
C38: Recurrent Expenditure | D38: =STAKEHOLDER!C87 -> 28050000 | E38: =1.04*D38 -> 29172000 | F38: =1.04*E38 -> 30338880
C39: Development Expenditure | D39: =STAKEHOLDER!C93 -> 26000000 | E39: =1.04*D39 -> 27040000 | F39: =1.04*E39 -> 28121600
B40: 10308 | C40: Fleet Management | D40: =SUM(D41:D42) -> 5766014 | E40: =SUM(E41:E42) -> 5996654.6 | F40: =SUM(F41:F42) -> 6236520.7
C41: Recurrent Expenditure | D41: =ADMINISTRATION!C139 -> 5766014 | E41: =D41*1.04 -> 5996654.6 | F41: =E41*1.04 -> 6236520.7
C42: Development Expenditure | D42: 0 | E42: =D42*1.04 -> 0 | F42: =E42*1.04 -> 0
B43: 10309 | C43: Strategy Delivery & Project Management | D43: =SUM(D44:D45) -> 2700000 | E43: =SUM(E44:E45) -> 2808000 | F43: =SUM(F44:F45) -> 2920320
...

Sheet STAKEHOLDER
A2: CHART OF ACCOUNTS -RECURRENT | C2: APPROVED BUDGET 2023/2024 | D2: Adjustments | E2: APPROVED REVISED BUDGET 2023/2024 | F2: PROPOSED BUDGET 2024/2025
A3: 10401 | B3: Stakeholder Management
A4: 2100000 | B4: Compensation of Employees
B5: Basic Salaries - Permanent Employees
A6: 2110101 | B6: Basic Salaries | C6: 27822624 | E6: =SUM(C6:D6) -> 27822624 | F6: 27822624
A7: Sub Total | C7: 27822624 | D7: =SUM(D6) -> 0 | E7: =SUM(E6) -> 27822624 | F7: =SUM(F6) -> 27822624
B8: Personal Allowance Paid as Part of Salary
A9: 2110301 | B9: House Allowance | C9: 7142219 | E9: =SUM(C9:D9) -> 7142219 | F9: 7142219
A10: 2110314 | B10: Transport Allowance | C10: 3977085 | E10: =SUM(C10:D10) -> 3977085 | F10: 3977085
A11: 2110320 | B11: Leave Allowance | C11: 361090 | E11: =SUM(C11:D11) -> 361090 | F11: 361090
A12: Sub Total | C12: 11480394 | D12: =SUM(D9:D11) -> 0 | E12: =SUM(E9:E11) -> 11480394 | F12: =SUM(F9:F11) -> 11480394
A13: Total Salaries and Wages | C13: 39303018 | D13: =SUM(D12,D7) -> 0 | E13: =SUM(E12,E7) -> 39303018 | F13: =SUM(F12,F7) -> 39303018
A14: 2200000 | B14: Use of Goods and Services
B15: Utilities Supplies and Services
A16: 2210101 | B16: Electricity
A17: Sub Total | C17: 0
B18: Communication, Supplies and Services
A19: 2210201 | B19: Telephone, Telex, Facsmile and Mobile Phone Services
A20: 2210203 | B20: Courier and Postal Services
A21: Sub Total | C21: 0
B22: Domestic Travel and Subsistence, and Other Transportation Costs
A23: 2210301 | B23: Travel Costs (airlines, bus, railway, mileage allowances, etc.) | C23: 200000 | E23: =SUM(C23:D23) -> 200000 | F23: 200000
A24: 2210302 | B24: Accommodation - Domestic Travel | C24: 1000000 | D24: -500000 | E24: =SUM(C24:D24) -> 500000 | F24: 500000
A25: 2210303 | B25: Daily Subsistence Allowance | C25: 800000 | D25: -300000 | E25: =SUM(C25:D25) -> 500000 | F25: 500000
A26: Sub Total | C26: 2000000 | D26: =SUM(D23:D25) -> -800000 | E26: =SUM(E23:E25) -> 1200000 | F26: =SUM(F23:F25) -> 1200000
B27: Foreign Travel and Subsistence, and other transportation costs
A28: 2210401 | B28: Travel Costs (airlines, bus, railway, etc.) | C28: 500000 | D28: -500000 | E28: =SUM(C28:D28) -> 0
A29: 2210402 | B29: Accommodation | E29: =SUM(C29:D29) -> 0
A30: 2210403 | B30: Daily Subsistence Allowance | C30: 800000 | D30: -800000 | E30: =SUM(C30:D30) -> 0
A31: Sub Total | C31: 1300000 | D31: =SUM(D28:D30) -> -1300000 | E31: =SUM(E28:E30) -> 0 | F31: =SUM(F28:F30) -> 0
B32: Printing , Advertising and Information Supplies and Services | E32: =SUM(C32:D32) -> 0
A33: 2210504 | B33: Advertising, Awareness and Publicity Campaigns | E33: =SUM(C33:D33) -> 0
A34: Sub Total | C34: 0 | E34: =SUM(C34:D34) -> 0
B35: Hospitality Supplies and Services
A36: 2210801 | B36: Catering Services (receptions), Accommodation, Gifts, Food and Drinks | E36: =SUM(C36:D36) -> 0
A37: 2211306 | B37: Membership Fees, Dues and Subscriptions to Professional and Trade Bodies | E37: =SUM(C37:D37) -> 0
A38: 2210802 | B38: Boards, Committees, Conferences and Seminars | C38: 200000 | E38: =SUM(C38:D38) -> 200000
A39: 2211306 | B39: Membership Fees, Dues and Subscriptions to Professional and Trade Bodies | F39: 100000
A40: Sub Total | C40: 200000 | D40: =SUM(D36:D38) -> 0 | E40: =SUM(E36:E38) -> 200000 | F40: =SUM(F36:F39) -> 100000
B41: Office and General Supplies and Services
...

Sheet FINANCE
A1: FINANCE, ACCOUNTING SERVICES AND REVENUE MANAGEMENT
A2: CHART OF ACCOUNTS -RECURRENT | C2: APPROVED BUDGET 2023/2024 | D2: Adjustments | E2: APPROVED REVISED BUDGET 2023/2024 | F2: PROPOSED BUDGET 2024/2025
A3: 10501 | B3: General Administration, Planning and Support Services
A4: 2100000 | B4: Compensation of Employees
B5: Basic Salaries - Permanent Employees
A6: 2110101 | B6: Basic Salaries | C6: 169363115 | E6: =SUM(C6:D6) -> 169363115 | F6: 169363115
A7: Sub Total | C7: =SUM(C6) -> 169363115 | D7: =SUM(D6) -> 0 | E7: =SUM(E6) -> 169363115 | F7: =SUM(F6) -> 169363115
B8: Personal Allowance Paid as Part of Salary
A9: 2110301 | B9: House Allowance | C9: 57120000 | E9: =SUM(C9:D9) -> 57120000 | F9: 57120000
A10: 2110314 | B10: Transport Allowance | C10: 17032400 | E10: =SUM(C10:D10) -> 17032400 | F10: 17032400
A11: 2110502 | B11: Other Allowances | C11: 400000 | E11: =SUM(C11:D11) -> 400000 | F11: 400000
A12: 2110320 | B12: Leave Allowance | C12: 6220645 | E12: =SUM(C12:D12) -> 6220645 | F12: 6220645
A13: 2120103 | B13: Employers Contribution to Staff Pensions Scheme | C13: 205000000 | E13: =SUM(C13:D13) -> 205000000 | F13: 167000000
B14: Employers Contribution to Housing levy | F14: 40000000
A15: Sub Total | C15: =SUM(C9:C13) -> 285773045 | D15: =SUM(D9:D13) -> 0 | E15: =SUM(E9:E13) -> 285773045 | F15: =SUM(F9:F14) -> 287773045
A16: Total Salaries and Wages | C16: =C15+C7 -> 455136160 | D16: =D15+D7 -> 0 | E16: =E15+E7 -> 455136160 | F16: =F15+F7 -> 457136160
A17: 2200000 | B17: Use of Goods and Services
B18: Utilities Supplies and Services
A19: 2210101 | B19: Electricity | C19: 12000000 | D19: 12000000 | E19: =SUM(C19:D19) -> 24000000 | F19: 24000000
A20: 2210102 | B20: Water and sewerage charges | C20: 1000000 | E20: =SUM(C20:D20) -> 1000000 | F20: 200000
A21: Sub Total | C21: =SUM(C19:C20) -> 13000000 | D21: =SUM(D19:D20) -> 12000000 | E21: =SUM(E19:E20) -> 25000000 | F21: =SUM(F19:F20) -> 24200000
B22: Communication, Supplies and Services
A23: 2210201 | B23: Telephone, Telex, Facsmile and Mobile Phone Services | E23: =SUM(C23:D23) -> 0
A24: 2210203 | B24: Courier and Postal Services | C24: 100000 | E24: =SUM(C24:D24) -> 100000 | F24: 100000
A25: Sub Total | C25: =SUM(C24) -> 100000 | D25: =SUM(D24) -> 0 | E25: =SUM(E24) -> 100000 | F25: =SUM(F24) -> 100000
B26: Domestic Travel and Subsistence, and Other Transportation Costs
A27: 2210301 | B27: Travel Costs (airlines, bus, railway, mileage allowances, etc.) | C27: 500000 | E27: =SUM(C27:D27) -> 500000 | F27: 500000
A28: 2210302 | B28: Accommodation - Domestic Travel | C28: 4000000 | E28: =SUM(C28:D28) -> 4000000 | F28: 3000000
A29: 2210303 | B29: Daily Subsistence Allowance | C29: 5000000 | E29: =SUM(C29:D29) -> 5000000 | F29: 4000000
A30: Sub Total | C30: =SUM(C27:C29) -> 9500000 | D30: =SUM(D27:D29) -> 0 | E30: =SUM(E27:E29) -> 9500000 | F30: =SUM(F27:F29) -> 7500000
B31: Foreign Travel and Subsistence, and other transportation costs
A32: 2210401 | B32: Travel Costs (airlines, bus, railway, etc.) | C32: 500000 | D32: -500000 | E32: =SUM(C32:D32) -> 0
A33: 2210403 | B33: Daily Subsistence Allowance | C33: 3550000 | D33: -3550000 | E33: =SUM(C33:D33) -> 0
A34: Sub Total | C34: 4050000 | D34: =SUM(D32:D33) -> -4050000 | E34: =SUM(E32:E33) -> 0 | F34: =SUM(F32:F33) -> 0
B35: Printing , Advertising and Information Supplies and Services
A36: 2210502 | B36: Publishing and Printing Services | E36: =SUM(C36:D36) -> 0
A37: 2210503 | B37: Subscriptions to Newspapers, Magazines and Periodicals | E37: =SUM(C37:D37) -> 0
A38: 2210504 | B38: Advertising, Awareness and Publicity Campaigns | C38: 300000 | E38: =SUM(C38:D38) -> 300000 | F38: 1000000
A39: Sub Total | C39: 300000 | D39: =SUM(D36:D38) -> 0 | E39: =SUM(E36:E38) -> 300000 | F39: =SUM(F36:F38) -> 1000000
B40: Training Expense (including capacity building) | E40: =SUM(C40:D40) -> 0
...

Sheet PLANNING
A1: ECONOMIC PLANNING AND ICT SERVICES
A2: CHART OF ACCOUNTS -RECURRENT | C2: APPROVED BUDGET 2023/2024 | D2: Adjustments | E2: APPROVED REVISED BUDGET 2023/2024 | F2: PROPOSED BUDGET 2024/2025
A3: 10503 | B3: County Planning Services
A4: 2100000 | B4: Compensation of Employees
B5: Basic Salaries - Permanent Employees
A6: 2110101 | B6: Basic Salaries | C6: 51102420 | E6: =SUM(C6:D6) -> 51102420 | F6: 51102420
A7: Sub Total | C7: =SUM(C6) -> 51102420 | D7: =SUM(D6) -> 0 | E7: =SUM(E6) -> 51102420 | F7: =SUM(F6) -> 51102420
B8: Personal Allowance Paid as Part of Salary
A9: 2110301 | B9: House Allowance | C9: 16971420 | E9: =SUM(C9:D9) -> 16971420 | F9: 15971420
A10: 2110314 | B10: Transport Allowance | C10: 5740000 | E10: =SUM(C10:D10) -> 5740000 | F10: 4740000
A11: 2110320 | B11: Leave Allowance | C11: 450000 | E11: =SUM(C11:D11) -> 450000 | F11: 450000
A12: 2110502 | B12: Other Allowances | C12: 600000 | E12: =SUM(C12:D12) -> 600000 | F12: 600000
A13: Sub Total | C13: =SUM(C9:C12) -> 23761420 | D13: =SUM(D9:D12) -> 0 | E13: =SUM(E9:E12) -> 23761420 | F13: =SUM(F9:F12) -> 21761420
A14: Total Salaries and Wages | C14: =C7+C13 -> 74863840 | D14: =D7+D13 -> 0 | E14: =E7+E13 -> 74863840 | F14: =F7+F13 -> 72863840
A15: 1050301 | B15: Budget Formulation, Coordination and Management
A16: 2200000 | B16: Use of Goods and Services
B17: Domestic Travel and Subsistence, and Other Transportation Costs
A18: 2210301 | B18: Travel Costs (airlines, bus, railway, mileage allowances, etc.) | C18: 200000 | E18: =SUM(C18:D18) -> 200000 | F18: 500000
A19: 2210302 | B19: Accommodation - Domestic Travel | C19: 15000000 | E19: =SUM(C19:D19) -> 15000000 | F19: 4000000
A20: 2210303 | B20: Daily Subsistence Allowance | C20: 8000000 | D20: -2500000 | E20: =SUM(C20:D20) -> 5500000 | F20: 1000000
B21: Utilities Supplies and Services
A22: 2210101 | B22: Electricity | C22: 100000 | E22: =SUM(C22:D22) -> 100000 | F22: 350000
B23: Printing , Advertising and Information Supplies and Services
A24: 2210502 | B24: Publishing and Printing Services | C24: 1000000 | D24: -500000 | E24: =SUM(C24:D24) -> 500000 | F24: 500000
A25: 2210503 | B25: Subscriptions to Newspapers, Magazines and Periodicals
A26: 2210504 | B26: Advertising, Awareness and Publicity Campaigns | C26: 1000000 | D26: 3000000 | E26: =SUM(C26:D26) -> 4000000 | F26: 3000000
B27: Training Expense (including capacity building) | C27: 2000000 | E27: =SUM(C27:D27) -> 2000000 | F27: 0
A28: 2210701 | B28: Travel Allowance | E28: =SUM(C28:D28) -> 0 | F28: 400000
A29: 2210710 | B29: Accommodation Allowance | E29: =SUM(C29:D29) -> 0 | F29: 500000
A30: 2210711 | B30: Tuition fees | C30: 500000 | E30: =SUM(C30:D30) -> 500000 | F30: 500000
A31: 2210715 | B31: Kenya School of Government | E31: =SUM(C31:D31) -> 0 | F31: 500000
B32: Hospitality Supplies and Services
A33: 2210801 | B33: Catering Services (receptions), Accommodation, Gifts, Food and Drinks | C33: 500000 | E33: =SUM(C33:D33) -> 500000 | F33: 0
A34: 2210802 | B34: Boards, Committees, Conferences and Seminars | E34: =SUM(C34:D34) -> 0 | F34: 1000000
B35: Fuel Oil and lubricants
B36: Refined Fuels and Lubricants for transport | E36: 0 | F36: 400000
B37: Office and General Supplies and Services
A38: 2211101 | B38: General Office Supplies (papers, pencils, forms, small office equipment etc) | C38: 500000 | E38: =SUM(C38:D38) -> 500000 | F38: 500000
A39: 2211102 | B39: Supplies and Accessories for Computers and Printers | C39: 300000 | E39: =SUM(C39:D39) -> 300000 | F39: 700000
A40: 2211103 | B40: Sanitary and Cleaning Materials, Supplies and Services | C40: 100000 | E40: =SUM(C40:D40) -> 100000 | F40: 100000
...

Sheet FINANCE 1
B2: Code | C2: Programme | D2: Budget Estimates(KShs) | E2: Projected Estimates (KShs)
D3: 2023/2024 | E3: 2024/2025 | F3: 2025/2026
B4: 10501 | C4: General Administration, Planning and Support Services | D4: =D12 -> 874018722 | E4: =1.04*D4 -> 9.0897947e+08 | F4: =SUM(1.04*E4) -> 9.4533865e+08
B5: 10502 | C5: Public Financial Management | D5: =D15 -> 88170448 | E5: =1.04*D5 -> 91697266 | F5: =SUM(1.04*E5) -> 95365157
B6: 10503 | C6: County Planning Services | D6: =D18 -> #REF! | E6: =1.04*D6 -> #REF! | F6: =SUM(1.04*E6) -> #REF!
B7: Total | D7: =SUM(D4:D6) -> #REF! | E7: =SUM(E4:E6) -> #REF! | F7: =SUM(F4:F6) -> #REF!
B10: Code | C10: Programme | D10: Approved Budget Estimates (KShs) | E10: Projected Estimates (KShs)
D11: 2023/2024 | E11: 2024/2025 | F11: 2025/2026
B12: 10501 | C12: General Administration, Planning and Support Services | D12: =SUM(D13+D14) -> 874018722 | E12: =SUM(D12*1.04) -> 9.0897947e+08 | F12: =SUM(E12*1.04) -> 9.4533865e+08
C13: Recurrent | D13: =FINANCE!C87 -> 874018722 | E13: =SUM(D13*1.04) -> 9.0897947e+08 | F13: =SUM(E13*1.04) -> 9.4533865e+08
C14: Development | D14: 0 | E14: =SUM(D14*1.04) -> 0 | F14: =SUM(E14*1.04) -> 0
B15: 10502 | C15: Public Financial Management | D15: =SUM(D16+D17) -> 88170448 | E15: =SUM(D15*1.04) -> 91697266 | F15: =SUM(E15*1.04) -> 95365157
C16: Recurrent | D16: =FINANCE!C218 -> 88170448 | E16: =SUM(D16*1.04) -> 91697266 | F16: =SUM(E16*1.04) -> 95365157
C17: Development | D17: 0 | E17: =SUM(D17*1.04) -> 0 | F17: =SUM(E17*1.04) -> 0
B18: 10503 | C18: County Planning Services | D18: =SUM(D19+D20) -> #REF! | E18: =SUM(D18*1.04) -> #REF! | F18: =SUM(E18*1.04) -> #REF!
C19: Recurrent | D19: =PLANNING!C167 -> 76369138 | E19: =SUM(D19*1.04) -> 79423904 | F19: =SUM(E19*1.04) -> 82600860
C20: Development | D20: =PLANNING!C168 -> #REF! | E20: =SUM(D20*1.04) -> #REF! | F20: =SUM(E20*1.04) -> #REF!
B21: Total | D21: =SUM(D12,I19,D18,D15) -> #REF! | E21: =SUM(E12,J19,E18,E15) -> #REF! | F21: =SUM(F12,K19,F18,F15) -> #REF!

Sheet AGRIC & COOP
A1: AGRICULTURE AND COOPERATIVE DEVELOPMENT
A2: CHART OF ACCOUNTS -RECURRENT | C2: APPROVED BUDGET 2023/2024 | D2: Adjustments | E2: APPROVED REVISED BUDGET 2023/2024 | F2: PROPOSED BUDGET 2024/2025
A3: 10805 | B3: Crop Development and Value Addition
A4: 10801 | B4: General Administration, Planning and Support Services
A5: 2100000 | B5: Compensation of Employees
B6: Basic Salaries - Permanent Employees
A7: 2110101 | B7: Basic Salaries | C7: 118125000 | E7: =SUM(C7:D7) -> 118125000 | F7: =SUM(D7:E7) -> 118125000
A8: Sub Total | C8: 118125000 | D8: =SUM(D7) -> 0 | E8: =SUM(E7) -> 118125000 | F8: =SUM(F7) -> 118125000
B9: Personal Allowance Paid as Part of Salary
A10: 2110301 | B10: House Allowance | C10: 27225412 | E10: =SUM(C10:D10) -> 27225412 | F10: =SUM(D10:E10) -> 27225412
A11: 2110303 | B11: Acting Allowance | E11: =SUM(C11:D11) -> 0 | F11: =SUM(D11:E11) -> 0
A12: 2110314 | B12: Transport Allowance | C12: 13500000 | E12: =SUM(C12:D12) -> 13500000 | F12: =SUM(D12:E12) -> 13500000
A13: 2110320 | B13: Leave Allowance | C13: 9200688 | E13: =SUM(C13:D13) -> 9200688 | F13: =SUM(D13:E13) -> 9200688
A14: 2110322 | B14: Risk Allowance | C14: 924332 | E14: =SUM(C14:D14) -> 924332 | F14: =SUM(D14:E14) -> 924332
A15: Sub Total | C15: 50850432 | D15: =SUM(D10:D14) -> 0 | E15: =SUM(E10:E14) -> 50850432 | F15: =SUM(F10:F14) -> 50850432
A16: Total Salaries and Wages | C16: 168975432 | D16: =SUM(D15,D8) -> 0 | E16: =SUM(E15,E8) -> 168975432 | F16: =SUM(F15,F8) -> 168975432
A17: 2200000 | B17: Use of Goods and Services
B18: Utilities Supplies and Services
A19: 2210101 | B19: Electricity | C19: 1000000 | E19: =SUM(C19:D19) -> 1000000 | F19: 1000000
A20: 2210102 | B20: Water and sewerage charges | C20: 300000 | E20: =SUM(C20:D20) -> 300000 | F20: 50000
A21: Sub Total | C21: 1300000 | D21: =SUM(D19:D20) -> 0 | E21: =SUM(E19:E20) -> 1300000 | F21: =SUM(F19:F20) -> 1050000
B22: Communication, Supplies and Services
A23: 2210201 | B23: Telephone, Telex, Facsmile and Mobile Phone Services | E23: =SUM(C23:D23) -> 0
