Workbook

Sheet Sheet5
A1: (1)VOTE | B1: FIRST SCHEDULE | C1: (2) SUPPLY
A2: NO.
A3: R101 | B3: County Assembly | C3: 963697525 | D3: 57553443 | E3: =C3+D3 -> 1021250968
A4: R102 | B4: County Executive | C4: 479512621 | D4: 35300000 | E4: =C4+D4 -> 514812621
A5: R103 | B5: Department of Finance and economic planning | C5: 1185583241 | D5: 70000000 | E5: =C5+D5 -> 1255583241
A6: R104 | B6: Department of Agriculture | C6: 443274069 | D6: 643011351 | E6: =C6+D6 -> 1086285420
A7: R105 | B7: Department of Environment and Natural Resources | C7: 195244842 | D7: 231501673 | E7: =C7+D7 -> 426746515
A8: R106 | B8: Department of Education Youth Affairs and Social development | C8: 620777713 | D8: 156343034 | E8: =C8+D8 -> 777120747 | F8: 777120747 | G8: =F8-E8 -> 0
A9: R107 | B9: Department of County Health Services | C9: 3418239511 | D9: 939494291 | E9: =C9+D9 -> 4357733802 | F9: 4357733802 | G9: =F9-E9 -> 0
A10: R108 | B10: Department of Physical Planning and Urban development | C10: 93357240 | D10: 95183915 | E10: =C10+D10 -> 188541155
A11: R109 | B11: Department of Public Works Transport and Housing | C11: 213000000 | D11: 1284400371 | E11: =C11+D11 -> 1497400371 | F11: 1497400371 | G11: =F11-E11 -> 0
A12: R110 | B12: Department of Trade Development and Regulations | C12: 82738837 | D12: 106746642 | E12: =C12+D12 -> 189485479
A13: R111 | B13: Department of Culture and Social Services | C13: 77256460 | D13: 202025502 | E13: =C13+D13 -> 279281962
A14: R112 | B14: Kisii Town | C14: 116755459 | D14: 248717745 | E14: =C14+D14 -> 365473204
A15: R113 | B15: County Administration and Stakeholders Management | C15: 675120059 | D15: 36445396 | E15: =C15+D15 -> 711565455 | F15: 711565455 | G15: =F15-E15 -> 0
B16: TOTAL RECURRENT | C16: =SUM(C3:C15) -> 8564557577 | D16: =SUM(D3:D15) -> 4106723363 | E16: =SUM(E3:E15) -> 12671280940
A22: DEVELOPMENT EXPENDITURE
A23: (1)VOTE | B23: SECOND SCHEDULE | C23: (2) SUPPLY
A24: NO.
A25: D 101 | B25: County Assembly | C25: 57553443
A26: D 102 | B26: County Executive | C26: 35300000
A27: D 103 | B27: Department of Finance and economic planning | C27: 70000000
A28: D 104 | B28: Department of Agriculture | C28: 643011351
A29: D 105 | B29: Department of Environment and Natural Resources | C29: 231501673
A30: D 106 | B30: Department of Education Youth Affairs and Social development | C30: 153843034
A31: D 107 | B31: Department of County Health Services | C31: 939494291
A32: D 108 | B32: Department of Physical Planning and Urban development | C32: 95183915
A33: D 109 | B33: Department of Public Works Transport and Housing | C33: 1281400371
A34: D 110 | B34: Department of Trade Development and Regulations | C34: 106746642
A35: D 111 | B35: Department of Culture and Social Services | C35: 202025502
A36: D 112 | B36: Kisii Town | C36: 248717745
A37: D113 | B37: County Administration and Stakeholders Management | C37: 37445396
B38: TOTAL DEVELOPMENT | C38: 4102223363

Sheet Sheet3

Sheet PERSONEL EMOLUMENTS
A1: KISII COUNTY GOVERNMENT
A2: PERSONNEL BUDGET
A3: FINANCIAL YEAR 2017/ 2018
B4: DEPARTMENT | C4: NO OF EMPLOYEES | D4: BASIC SALARY | E4: HOUSE ALLOWANCE | F4: COMMUTER | G4: SPECIAL DUTY ALLOWANCE | H4: RESPONSIBILTY ALLOWANCE | I4: HEALTH RISK ALLOWANCE | J4: UNIFORM ALLOWANCE | K4: EMERGECY CALL ALLOWANCE | L4: OTHER ALLOWANCES | M4: EXTRANEOUS ALLOWANCE | N4: NON PRACTISING ALLOWANCE | O4: ACTING ALLOWANCE | P4: TELEPHONE ALLOWANCE | Q4: GRATUITY | R4: COUNTY CONTRIBUTION TO PENSION | S4: LEAVE ALLOWANCE | T4: TOTAL ANNUAL PERSONEL BUDGET
A5: 1 | B5: OFFICE OF THE GOVERNOR AND DEPUTY GOVERNOR
B6: IN PAYROLL
B7: NOT IN PAYROLL
B8: SUB-TOTAL
A9: 2 | B9: COUNTY ADMINISTRATION
B10: IN PAYROLL
B11: NOT IN PAYROLL
B12: SUB-TOTAL
A13: 3 | B13: COUNTY PUBLIC SERVICE
B14: IN PAYROLL
B15: NOT IN PAYROLL
B16: SUB-TOTAL
A17: 4 | B17: FINANCE AND ECONOMIC PLANNING
B18: IN PAYROLL
B19: NOT IN PAYROLL
B20: SUB-TOTAL
A21: 5 | B21: AGRICULTURE
B22: IN PAYROLL
B23: NOT IN PAYROLL
B24: SUB-TOTAL
A25: 6 | B25: ENVIRONMENT
B26: IN PAYROLL
B27: NOT IN PAYROLL
B28: SUB-TOTAL
A29: 7 | B29: EDUCATION
B30: IN PAYROLL
B31: Instructors to be absorbed from national govt
B32: New employees (ECD and polytechnic instructors)
B33: SUB-TOTAL
A34: 8 | B34: HEALTH
B35: IN PAYROLL
B36: DANIDA Personnel Costs
B37: NOT IN PAYROLL
B38: SUB-TOTAL
A39: 9 | B39: LAND, PHYSICAL PLANNING AND URBAN DEVELOPMENT
B40: IN PAYROLL | S40: =6000*C40 -> 0 | T40: =SUM(D40:S40) -> 0
...

Sheet Sheet2

Sheet Sheet1

Sheet PROJECT SUMMARY
A1: KISII COUNTY GOVERNMENT
A2: PROJECTS SUMMARY
A3: DEPARTMENT | B3: PROPOSED BUDGET 2019/2020
A4: OFFICE OF THE GOVERNOR AND DEPUTY GOVERNOR | B4: 200000000
A5: KISII COUNTY ASSEMBLY
A6: COUNTY ADMINISTRATION
A7: STAKEHOLDER MANAGEMENT
A8: FINANCE AND ACCOUNTING
A9: ECONOMIC PLANNING
A10: FISHERIES, LIVESTOCK AND VETERINARY SERVICES
A11: AGRICULTURE AND COOPERATIVES DEVELOPMENT
A12: ENVIRONMENT
A13: WATER AND SANITATION SERVICES
A14: EDUCATION
A15: MEDICAL SERVICES
A16: LANDS, PHYSICAL PLANNING AND URBAN DEVELOPMENT
... A22: TOTAL

Sheet Revenue
A1: PROPOSED REVENUE BUDGET FOR FY2026/2027
A2: ITEM | B2: APPROVED REVISED BUDGET 2023/24 BUDGET 2023/24 | C2: APPROVED BUDGET 2024/25 | D2: ADJUSTMENT | E2: APPROVED REVISED BUDGET 2024/25 | F2: ADJUSTMENT | G2: PROPOSED 2ND REVISED BUDGET 2024/25 | H2: APPROVED BUDGET FY 2025/26 | I2: ADJUSTMENTS | J2: APPROVED REVISED BUDGET FY 2025/26 | K2: ADJUSTMENTS | L2: APPROVED 2ND REVISED BUDGET FY 2025/26 | M2: PROPOSED BUDGET FY 2026/27
A3: Equitable Share | B3: 9258588608 | C3: 9605604088 | D3: -299768400 | E3: =C3+D3 -> 9305835688 | G3: =E3+F3 -> 9305835688 | H3: 9722580296 | I3: 97141472 | J3: =H3+I3 -> 9819721768 | L3: =J3+K3 -> 9819721768 | M3: 9930880341
A4: Aquaculture Business Development Programme | B4: 23165743 | C4: 21486575 | D4: 0 | E4: =C4+D4 -> 21486575 | G4: =E4+F4 -> 21486575 | H4: 21486575 | I4: -5939575 | J4: =H4+I4 -> 15547000 | L4: =J4+K4 -> 15547000
A5: Industrial Park | B5: 0 | C5: 250000000 | D5: 0 | E5: =C5+D5 -> 250000000 | G5: =E5+F5 -> 250000000 | H5: 250000000 | J5: =H5+I5 -> 250000000 | L5: =J5+K5 -> 250000000
A6: National Agricultural Value Chain Development Project (NAVCDP)-World Bank Credit | B6: 250000000 | C6: 151515152 | D6: 0 | E6: =C6+D6 -> 151515152 | G6: =E6+F6 -> 151515152 | H6: 231250000 | J6: =H6+I6 -> 231250000 | L6: =J6+K6 -> 231250000 | M6: 105000000
A7: DANIDA | B7: 14206500 | C7: 8856000 | D7: 3136500 | E7: =C7+D7 -> 11992500 | G7: =E7+F7 -> 11992500 | H7: 8856000 | J7: =H7+I7 -> 8856000 | L7: =J7+K7 -> 8856000
A8: Agriculture Business Development Programme | C8: 0 | D8: 10918919 | E8: =C8+D8 -> 10918919 | G8: =E8+F8 -> 10918919 | J8: =H8+I8 -> 0 | L8: =J8+K8 -> 0
A9: Allocation for Mineral Royalties | B9: 682562 | C9: 117616 | E9: =C9+D9 -> 117616 | G9: =E9+F9 -> 117616 | H9: 117616 | I9: 564946 | J9: =H9+I9 -> 682562 | L9: =J9+K9 -> 682562 | M9: 1560790
A10: Finance for Locally-Led Climate Action Program (FLLoCA) County Climate Institutional Support (CCIS) Grant | B10: 22000000 | C10: 11000000 | D10: 0 | E10: =C10+D10 -> 11000000 | G10: =E10+F10 -> 11000000 | H10: 0 | J10: =H10+I10 -> 0 | L10: =J10+K10 -> 0 | M10: 160000000
A11: Finance for Locally-Led Climate Action Program (FLLoCA) -IDA | B11: 160992006 | C11: 0 | D11: 160000000 | E11: =C11+D11 -> 160000000 | G11: =E11+F11 -> 160000000 | J11: =H11+I11 -> 0 | L11: =J11+K11 -> 0 | M11: 84000000
A12: Finance for Locally-Led Climate Action Program (FLLoCA) County Climate Resilient Investment Grant (KfW) | B12: 84121480 | C12: 0 | D12: 84000000 | E12: =C12+D12 -> 84000000 | G12: =E12+F12 -> 84000000 | J12: =H12+I12 -> 0 | L12: =J12+K12 -> 0
A13: KDSP I | E13: 37500000 | G13: 37500000 | H13: 37500000 | J13: =H13+I13 -> 37500000 | K13: -1500000 | L13: =J13+K13 -> 36000000 | M13: 36000000
A14: KDSP II | C14: 37500000 | E14: 0 | G14: =E14+F14 -> 0 | H14: 0 | I14: 352000000 | J14: =H14+I14 -> 352000000 | L14: =J14+K14 -> 352000000 | M14: 171870505
A15: Community Health Promoters (CHPs) | C15: 88200000 | E15: =C15+D15 -> 88200000 | G15: =E15+F15 -> 88200000 | H15: 88200000 | J15: =H15+I15 -> 88200000 | L15: =J15+K15 -> 88200000 | M15: 88200000
A16: Outstanding basic salaries for Health workers | E16: 0 | G16: 0 | H16: 72428277 | J16: =H16+I16 -> 72428277 | L16: =J16+K16 -> 72428277
A17: Building Resilient & Responsive Health Systems-BREHS | M17: 77823857
A18: Road maintenance Levy Fund (RMLF) | C18: 179407700 | E18: =C18+D18 -> 179407700 | G18: =E18+F18 -> 179407700 | H18: 0 | I18: 403033155 | J18: =H18+I18 -> 403033155 | K18: -403033156 | L18: =J18+K18 -> -1
A19: Kenya Urban Support Programme (KUSP) Urban Institution Grant | C19: 35000000 | E19: =C19+D19 -> 35000000 | G19: =E19+F19 -> 35000000 | H19: 35000000 | J19: =H19+I19 -> 35000000 | L19: =J19+K19 -> 35000000 | M19: 35000000
A20: Urban Development Grant (UDG) | C20: 0 | D20: 90993018 | E20: =C20+D20 -> 90993018 | G20: =E20+F20 -> 90993018 | H20: 90993018 | J20: =H20+I20 -> 90993018 | K20: 19006982 | L20: =J20+K20 -> 110000000 | M20: 110000000
A21: Primary Health Care in Devolved Context (PHDC) | H21: 0 | I21: 12546000 | J21: =H21+I21 -> 12546000 | L21: =J21+K21 -> 12546000
A22: Allocations for 0.5% of the Housing Levy Fund to the County Rural and Urban Affordable Housing Committees | H22: 0 | I22: 1987622 | J22: =H22+I22 -> 1987622 | L22: =J22+K22 -> 1987622 | M22: 7787057
A23: Unspent balances FY 2024/2025 | B23: 2432460031 | C23: 3494246792 | D23: =315686536+42451566 -> 358138102 | E23: =C23+D23 -> 3852384894 | G23: =E23+F23 -> 3852384894 | H23: =5411180616 -> 5411180616 | J23: =H23+I23 -> 5411180616 | K23: -1500000 | L23: =J23+K23 -> 5409680616 | M23: 3639973532
A24: Local Revenues | B24: =B54 -> 650000000 | C24: 650000000 | D24: =150000000+65000000 -> 215000000 | E24: =C24+D24 -> 865000000 | G24: =E24+F24 -> 865000000 | H24: =H54 -> 2615000000 | I24: =I54 -> 602000000 | J24: =H24+I24 -> 3217000000 | K24: =K54 -> 500000000 | L24: =J24+K24 -> 3717000000 | M24: =M54 -> 2650000000
A25: TOTAL REVENUE | B25: =SUM(B3:B24) -> 12896216930 | C25: =SUM(C3:C24) -> 14532933923 | D25: =SUM(D3:D24) -> 622418139 | E25: =SUM(E3:E24) -> 15155352062 | F25: =SUM(F3:F24) -> 0 | G25: =SUM(G3:G24) -> 15155352062 | H25: =SUM(H3:H24) -> 18584592398 | I25: =SUM(I3:I24) -> 1463333620 | ... M25: =SUM(M3:M24) -> 17098096082
A26: LOCAL REVENUE ITEMIZATION | G26: =E26+F26 -> 0
A27: LOCAL LEVIES: 1-2000 | G27: =E27+F27 -> 0
A28: 1-2101 Property rates | B28: 25000000 | C28: 25000000 | D28: 5000000 | E28: =C28+D28 -> 30000000 | G28: =E28+F28 -> 30000000 | H28: 30000000 | I28: 200000000 | J28: =H28+I28 -> 230000000 | L28: =J28+K28 -> 230000000 | M28: 200000000
A29: 1-2201 Business Permits Current Year | B29: 200000000 | C29: 200000000 | D29: 30000000 | E29: =C29+D29 -> 230000000 | G29: =E29+F29 -> 230000000 | H29: 230000000 | I29: 70000000 | J29: =H29+I29 -> 300000000 | L29: =J29+K29 -> 300000000 | M29: 225000000
A30: 1-2311 Fruits & Vegetables / Agricultural Produce Cess | B30: 20000000 | C30: 20000000 | D30: 5000000 | E30: =C30+D30 -> 25000000 | G30: =E30+F30 -> 25000000 | H30: 25000000 | I30: 30000000 | J30: =H30+I30 -> 55000000 | L30: =J30+K30 -> 55000000 | M30: 40000000
A31: 1-3105 Miscellenous income | B31: 3500000 | C31: 3500000 | D31: 6500000 | E31: =C31+D31 -> 10000000 | G31: =E31+F31 -> 10000000 | H31: 10000000 | J31: =H31+I31 -> 10000000 | L31: =J31+K31 -> 10000000 | M31: 10000000
A32: 1-3501 County Premises Monthly Rent | B32: 10000000 | C32: 10000000 | D32: 5000000 | E32: =C32+D32 -> 15000000 | G32: =E32+F32 -> 15000000 | H32: 15000000 | I32: 50000000 | J32: =H32+I32 -> 65000000 | L32: =J32+K32 -> 65000000 | M32: 55000000
A33: 1-5101 Market Entrance / Gate Fee | B33: 90000000 | C33: 90000000 | D33: 10000000 | E33: =C33+D33 -> 100000000 | G33: =E33+F33 -> 100000000 | H33: 100000000 | J33: =H33+I33 -> 100000000 | L33: =J33+K33 -> 100000000 | M33: 70000000
A34: 1-5102 Market Plots Rent | B34: 15000000 | C34: 15000000 | D34: 30000000 | E34: =C34+D34 -> 45000000 | G34: =E34+F34 -> 45000000 | H34: 45000000 | J34: =H34+I34 -> 45000000 | L34: =J34+K34 -> 45000000 | M34: 40000000
A35: 1-5201 Enclosed Bus Park Fee(Matatu monthly stickers) | B35: 76000000 | C35: 76000000 | D35: 10000000 | E35: =C35+D35 -> 86000000 | G35: =E35+F35 -> 86000000 | H35: 86000000 | J35: =H35+I35 -> 86000000 | L35: =J35+K35 -> 86000000 | M35: 70000000
A36: Motorcycle parking stickers | B36: 30000000 | C36: 30000000 | D36: 10000000 | E36: =C36+D36 -> 40000000 | G36: =E36+F36 -> 40000000 | H36: 40000000 | I36: 20000000 | J36: =H36+I36 -> 60000000 | L36: =J36+K36 -> 60000000 | M36: 50000000
A37: 1-5221 Street Parking Fee | B37: 50000000 | C37: 50000000 | D37: 16000000 | E37: =C37+D37 -> 66000000 | G37: =E37+F37 -> 66000000 | H37: 66000000 | I37: 20000000 | J37: =H37+I37 -> 86000000 | L37: =J37+K37 -> 86000000 | M37: 70000000
A38: 1-6301 Social Hall Hire | B38: 500000 | C38: 500000 | D38: 2500000 | E38: =C38+D38 -> 3000000 | G38: =E38+F38 -> 3000000 | H38: 3000000 | I38: 7000000 | J38: =H38+I38 -> 10000000 | L38: =J38+K38 -> 10000000 | M38: 7000000
A39: 1-6311 Stadium Hire | B39: 1000000 | C39: 1000000 | D39: 9000000 | E39: =C39+D39 -> 10000000 | G39: =E39+F39 -> 10000000 | H39: 10000000 | I39: 30000000 | J39: =H39+I39 -> 40000000 | L39: =J39+K39 -> 40000000 | M39: 25000000
A40: 1-8401 Slaughter House Fee | B40: 1000000 | C40: 1000000 | D40: 4000000 | E40: =C40+D40 -> 5000000 | G40: =E40+F40 -> 5000000 | H40: 5000000 | J40: =H40+I40 -> 5000000 | L40: =J40+K40 -> 5000000 | M40: 5000000
...

Sheet GRAND SUMMARY
A1: SUMMARY OF RECURRENT AND DEVELOPMENT EXPENDITURE-PROPOSED BUDGET FY 2026/27
A2: DEPARTMENT | B2: REVENUE | C2: PERSONEL EMOLUMENTS | D2: TOTAL OPERATIONS AND MAINTENANCE | E2: RECURRENT | F2: DEVELOPMENT | G2: APPROVED REVISED BUDGET 2022/23 | H2: APPROVED REVISED BUDGET 2023/2024 | I2: APPROVED REVISED BUDGET 2024/25 | J2: ADJUSTMENT | K2: APPROVED 2ND REVISED BUDGET FY 2025/26 | L2: PROPOSED BUDGET FY 2026/27
A3: COUNTY ASSEMBLY | C3: ='PEMOLUMENTS SUMMARY'!K24 -> 652341142 | D3: =ASSEMBLY!L206+ASSEMBLY!L81 -> 398802038 | E3: =SUM(C3,D3) -> 1051143180 | F3: =ASSEMBLY!L221 -> 18000000 | G3: ='COUNTY ASSEMBLY'!C246 -> 1509980447 | H3: 1387381974 | I3: 1201360230 | J3: ='SUMMARY DEVELOP.'!E24+'SUMMARY RECURRENT'!E24 -> -84011059 | K3: =SUM(E3:F3) -> 1069143180 | L3: ='SUMMARY DEVELOP.'!L24+'SUMMARY RECURRENT'!L24 -> 1051143180
A4: EXECUTIVE OFFICE OF THE GOVERNOR | C4: ='PEMOLUMENTS SUMMARY'!K3 -> 170000000 | D4: =EXECUTIVE!O180 -> 50403696 | E4: =SUM(C4,D4) -> 220403696 | F4: ='SUMMARY DEVELOP.'!K3 -> 78000000 | G4: =EXECUTIVE!#REF!+'PROJECTS DETAILS'!#REF! -> #REF! | H4: 553146720 | I4: =SUM(E4:F4) -> 298403696 | J4: ='SUMMARY DEVELOP.'!E3+'SUMMARY RECURRENT'!E3 -> 6000000 | K4: =SUM(E4:F4) -> 298403696 | L4: ='SUMMARY DEVELOP.'!L3+'SUMMARY RECURRENT'!L3 -> 224885050
A5: COUNTY PUBLIC SERVICE BOARD | C5: 0 | D5: =CPSB!O67 -> 14370000 | E5: =SUM(C5,D5) -> 14370000 | F5: 0 | G5: =CPSB!#REF! -> #REF! | H5: 18329000 | I5: =SUM(E5:F5) -> 14370000 | J5: ='SUMMARY DEVELOP.'!E4+'SUMMARY RECURRENT'!E4 -> 0 | K5: =SUM(E5:F5) -> 14370000 | L5: ='SUMMARY RECURRENT'!L4 -> 30229900
A6: OFFICE OF THE COUNTY ATTORNEY | C6: ='OFFICE OF THE COUNTY ATTORNEY'!P16 -> 30000000 | D6: ='OFFICE OF THE COUNTY ATTORNEY'!P83 -> 37000000 | E6: =SUM(C6,D6) -> 67000000 | F6: 0 | I6: 0 | J6: 0 | K6: =SUM(E6:F6) -> 67000000 | L6: ='OFFICE OF THE COUNTY ATTORNEY'!Q84 -> 70000000
A7: PUBLIC SERVICE AND COUNTY ADMINISTRATION | C7: =ADMINISTRATION!O15 -> 403820424 | D7: =ADMINISTRATION!O134 -> 92422139 | E7: =SUM(C7:D7) -> 496242563 | F7: ='SUMMARY DEVELOP.'!K6 -> 393319120 | G7: 462546797 | H7: 557933501 | I7: =SUM(E7:F7) -> 889561683 | J7: ='SUMMARY DEVELOP.'!E6+'SUMMARY RECURRENT'!E6 -> 0 | K7: =SUM(E7:F7) -> 889561683 | L7: ='SUMMARY DEVELOP.'!L6+'SUMMARY RECURRENT'!L6 -> 639425643
A8: PUBLIC PARTICIPATION, DISASTER SERVICES AND SPECIAL PROGRAMMES | C8: ='PEMOLUMENTS SUMMARY'!K7 -> 46179576 | D8: =STAKEHOLDER!O90 -> 7170000 | E8: =SUM(C8:D8) -> 53349576 | F8: ='SUMMARY DEVELOP.'!K7 -> 0 | G8: ='PROJECTS DETAILS'!#REF!+STAKEHOLDER!#REF! -> #REF! | H8: 79853018 | I8: =SUM(E8:F8) -> 53349576 | J8: ='SUMMARY DEVELOP.'!E7+'SUMMARY RECURRENT'!E7 -> 0 | K8: =SUM(E8:F8) -> 53349576 | L8: ='SUMMARY DEVELOP.'!L7+'SUMMARY RECURRENT'!L7 -> 55149576
A9: FINANCE, ACCOUNTING SERVICES AND REVENUE MANAGEMENT | B9: =Revenue!M25 -> 17098096082 | C9: ='PEMOLUMENTS SUMMARY'!K8 -> 480136160 | D9: =FINANCE!O224 -> 896780103 | E9: =SUM(C9:D9) -> 1376916263 | F9: ='SUMMARY DEVELOP.'!J8 -> 0 | G9: =FINANCE!#REF! -> #REF! | H9: 938339170 | I9: =SUM(E9:F9) -> 1376916263 | J9: ='SUMMARY DEVELOP.'!E8+'SUMMARY RECURRENT'!E8 -> 120219135 | K9: =SUM(E9:F9) -> 1376916263 | L9: ='SUMMARY DEVELOP.'!L8+'SUMMARY RECURRENT'!L8 -> 1185840916
A10: ECONOMIC PLANNING AND ICT SERVICES | C10: ='PEMOLUMENTS SUMMARY'!K9 -> 72863840 | D10: =PLANNING!O176 -> 50855802 | E10: =SUM(C10:D10) -> 123719642 | F10: ='SUMMARY DEVELOP.'!K9 -> 10000000 | G10: 165091154 | H10: 309563828 | I10: =SUM(E10:F10) -> 133719642 | J10: ='SUMMARY DEVELOP.'!E9+'SUMMARY RECURRENT'!E9 -> #REF! | K10: =SUM(E10:F10) -> 133719642 | L10: ='SUMMARY DEVELOP.'!L9+'SUMMARY RECURRENT'!L9 -> 168918840
A11: AGRICULTURE AND COOPERATIVES DEVELOPMENT | C11: ='PEMOLUMENTS SUMMARY'!K10 -> 168975432 | D11: ='AGRIC & COOP'!M205 -> 36740000 | E11: =SUM(C11:D11) -> 205715432 | F11: ='SUMMARY DEVELOP.'!K10 -> 306030338 | G11: 365911128 | H11: 782115201 | I11: =SUM(E11:F11) -> 511745770 | J11: ='SUMMARY DEVELOP.'!E10+'SUMMARY RECURRENT'!E10 -> #REF! | K11: =SUM(E11:F11) -> 511745770 | L11: ='SUMMARY DEVELOP.'!L10+'SUMMARY RECURRENT'!L10 -> 1258884121
A12: FISHERIES, LIVESTOCK AND VETERINARY SERVICES | C12: ='PEMOLUMENTS SUMMARY'!K11 -> 101024568 | D12: ='LIVESTOCK & VET'!O140 -> 3450000 | E12: =SUM(C12:D12) -> 104474568 | F12: ='SUMMARY DEVELOP.'!K11 -> 490481216 | G12: 437961003 | H12: 260959880 | I12: =SUM(E12:F12) -> 594955784 | J12: ='SUMMARY DEVELOP.'!#REF!+'SUMMARY RECURRENT'!#REF! -> #REF! | K12: =SUM(E12:F12) -> 594955784 | L12: ='SUMMARY DEVELOP.'!L11+'SUMMARY RECURRENT'!L11 -> 221674568
A13: WATER, ENVIRONMENT, NATURAL RESOURCES, ENERGY AND CLIMATE CHANGE | C13: ='PEMOLUMENTS SUMMARY'!K12 -> 70000000 | D13: ='WATER, ENERGY, ENVIRONMENT AND '!O108 -> 562886382 | E13: =SUM(C13:D13) -> 632886382 | F13: ='SUMMARY DEVELOP.'!K12 -> 1348545087 | G13: 290604377 | H13: 692385883 | I13: =SUM(E13:F13) -> 1981431469 | J13: ='SUMMARY DEVELOP.'!E12+'SUMMARY RECURRENT'!E12 -> #REF! | K13: =SUM(E13:F13) -> 1981431469 | L13: ='SUMMARY DEVELOP.'!L12+'SUMMARY RECURRENT'!L12+'SUMMARY RECURRENT'!L13+'SUMMARY DEVELOP.'!L13 -> 1665597322
A14: EDUCATION,TECHNICAL TRAINING & INNOVATION | C14: ='PEMOLUMENTS SUMMARY'!K14 -> 450000000 | D14: =EDUCATION!O96 -> 947175000 | E14: =SUM(C14:D14) -> 1397175000 | F14: ='SUMMARY DEVELOP.'!K14 -> 552056943 | G14: 723526775 | H14: 1153917270 | I14: =SUM(E14:F14) -> 1949231943 | J14: ='SUMMARY DEVELOP.'!E14+'SUMMARY RECURRENT'!E14 -> #REF! | K14: =SUM(E14:F14) -> 1949231943 | L14: ='SUMMARY DEVELOP.'!L14+'SUMMARY RECURRENT'!L14 -> 1128054356
A15: MEDICAL SERVICES, PUBLIC HEALTH AND SANITATION | C15: ='PEMOLUMENTS SUMMARY'!K15 -> 3341358145 | D15: =SUM(MEDICAL!O306,MEDICAL!O212,MEDICAL!O109)+'PUBLIC HEALTH'!O95 -> 2287709262 | E15: =SUM(C15:D15) -> 5629067407 | F15: ='SUMMARY DEVELOP.'!K15 -> 861199314 | G15: =3731518798+29750000 -> 3761268798 | H15: 3957430185 | I15: =SUM(E15:F15) -> 6490266721 | J15: ='SUMMARY DEVELOP.'!E15+'SUMMARY DEVELOP.'!E16+'SUMMARY RECURRENT'!E15+'SUMMARY RECURRENT'!E16 -> 3145200 | K15: =SUM(E15:F15) -> 6490266721 | L15: ='SUMMARY DEVELOP.'!L15+'SUMMARY RECURRENT'!L15+'PUBLIC HEALTH'!P95 -> 7267566821
A16: LANDS, PHYSICAL PLANNING , HOUSING AND URBAN DEVELOPMENT | C16: ='PEMOLUMENTS SUMMARY'!K17 -> 75700000 | D16: =LANDS!O124 -> 347770006 | E16: =SUM(C16:D16) -> 423470006 | F16: ='SUMMARY DEVELOP.'!K17 -> 369190088 | G16: 235747982 | H16: 355795336 | I16: =SUM(E16:F16) -> 792660094 | J16: ='SUMMARY DEVELOP.'!E17+'SUMMARY RECURRENT'!E17 -> -32000000 | K16: =SUM(E16:F16) -> 792660094 | L16: ='SUMMARY DEVELOP.'!L17+'SUMMARY RECURRENT'!L17 -> 350781692
A17: ROADS & INFRASTRUCTURE | C17: ='PEMOLUMENTS SUMMARY'!K18 -> 91900000 | D17: =ROADS!O83 -> 48628464 | E17: =SUM(C17:D17) -> 140528464 | F17: ='SUMMARY DEVELOP.'!K18 -> 2203142419 | G17: =806552927+144500312 -> 951053239 | H17: 1292971559 | I17: =SUM(E17:F17) -> 2343670883 | J17: ='SUMMARY DEVELOP.'!E18+'SUMMARY RECURRENT'!E18 -> 3195826 | K17: =SUM(E17:F17) -> 2343670883 | L17: ='SUMMARY DEVELOP.'!L18+'SUMMARY RECURRENT'!L18 -> 773951573
A18: PUBLIC WORKS | C18: ='PEMOLUMENTS SUMMARY'!K19 -> 58100000 | D18: ='PUBLIC WORKS'!O71 -> 21072750 | E18: =SUM(C18:D18) -> 79172750 | F18: ='SUMMARY DEVELOP.'!K19 -> 66736125 | I18: =SUM(E18:F18) -> 145908875 | J18: ='SUMMARY DEVELOP.'!E19+'SUMMARY RECURRENT'!E19 -> 0 | K18: =SUM(E18:F18) -> 145908875 | L18: ='SUMMARY DEVELOP.'!L19+'SUMMARY RECURRENT'!L19 -> 126048427
A19: TRADE,TOURISM, INDUSTRY AND MARKETING | C19: ='PEMOLUMENTS SUMMARY'!K20 -> 65000000 | D19: =TRADE!O259 -> 14263042 | E19: =SUM(C19:D19) -> 79263042 | F19: ='SUMMARY DEVELOP.'!K20 -> 492920820 | G19: =SUM('PROJECTS DETAILS'!#REF!,TRADE!#REF!) -> #REF! | H19: 378548147 | I19: =SUM(E19:F19) -> 572183862 | J19: ='SUMMARY DEVELOP.'!E20+'SUMMARY RECURRENT'!E20 -> 75344194 | K19: =SUM(E19:F19) -> 572183862 | L19: ='SUMMARY DEVELOP.'!L20+'SUMMARY RECURRENT'!L20 -> 264856138
A20: YOUTH ,SPORTS, CULTURE, ARTS AND SOCIAL SERVICES | C20: ='PEMOLUMENTS SUMMARY'!K21 -> 70000000 | D20: =CULTURE!O173 -> 111630345 | E20: =SUM(C20:D20) -> 181630345 | F20: ='SUMMARY DEVELOP.'!K21 -> 87401048 | G20: =SUM('PROJECTS DETAILS'!#REF!,CULTURE!#REF!) -> #REF! | H20: 208717320 | I20: =SUM(E20:F20) -> 269031393 | J20: ='SUMMARY DEVELOP.'!E21+'SUMMARY RECURRENT'!E20 -> 75344194 | K20: =SUM(E20:F20) -> 269031393 | L20: ='SUMMARY DEVELOP.'!L21+'SUMMARY RECURRENT'!L21 -> 262321393
A21: KISII MUNICIPALITY | C21: ='PEMOLUMENTS SUMMARY'!K22 -> 91602484 | D21: ='KISII MUNICIPALITY'!O101 -> 47437337 | E21: =SUM(C21:D21) -> 139039821 | F21: ='SUMMARY DEVELOP.'!K22 -> 420548912 | G21: =SUM('PROJECTS DETAILS'!#REF!,'KISII MUNICIPALITY'!#REF!) -> #REF! | H21: 272361200 | I21: =SUM(E21:F21) -> 559588733 | J21: ='SUMMARY DEVELOP.'!E22+'SUMMARY RECURRENT'!E22 -> 0 | K21: =SUM(E21:F21) -> 559588733 | L21: ='SUMMARY DEVELOP.'!L22+'SUMMARY RECURRENT'!L22 -> 318577984
A22: OGEMBO MUNICIPALITY | C22: ='PEMOLUMENTS SUMMARY'!K23 -> 4300000 | D22: ='OGEMBO MUNICIPALITY '!O134 -> 8485175 | E22: =SUM(C22:D22) -> 12785175 | F22: ='SUMMARY DEVELOP.'!K23 -> 32875102 | G22: =SUM('PROJECTS DETAILS'!#REF!,'OGEMBO MUNICIPALITY '!#REF!) -> #REF! | H22: 60372692 | I22: =SUM(E22:F22) -> 45660277 | J22: ='SUMMARY DEVELOP.'!E23+'SUMMARY RECURRENT'!E23 -> 13985175 | K22: =SUM(E22:F22) -> 45660277 | L22: ='SUMMARY DEVELOP.'!L23+'SUMMARY RECURRENT'!L23 -> 34188582
A23: TOTAL | B23: =SUM(B3:B21) -> 17098096082 | C23: =SUM(C3:C22) -> 6443301771 | D23: =SUM(D3:D22) -> 5985051541 | E23: =SUM(E3:E22) -> 12428353312 | F23: =SUM(F3:F22) -> 7730446532 | G23: =SUM(G3:G22) -> #REF! | H23: =SUM(H3:H22) -> 13260121884 | I23: =SUM(I3:I22) -> 20224016894 | J23: =SUM(J3:J22) -> #REF! | ... L23: =SUM(L3:L22) -> 17098096082
A24: SURPLUS/DEFICIT | F24: ='SUMMARY DEVELOP.'!K25-F23 -> 0 | I24: =B23-L23 -> 0 | L24: =B23-L23 -> 0
A25: Development Ratio | L25: ='SUMMARY DEVELOP.'!L25/L23 -> 0.32114109

Sheet SUMMARY DEVELOP.
A1: SUMMARY OF DEVELOPMENT EXPENDITURE FY2026/27-PROPOSED BUDGET
B2: DEPARTMENT | C2: APPROVED REVISED BUDGET 2023/24 | D2: APPROVED 1ST REVISED BUDGET 2024/2025 | E2: ADJUSTMENTS | F2: APPROVED 2ND REVISED BUDGET 2024/2025 | G2: APPROVED BUDGET FY 2025/26 | H2: ADJUSTMENT | I2: APPROVED REVISED BUDGET FY 2025/26 | J2: ADJUSTMENT | K2: APPROVED 2ND REVISED BUDGET FY 2025/26 | L2: PROPOSED BUDGET FY 2026/27
A3: 1 | B3: EXECUTIVE OFFICE OF THE GOVERNOR | C3: ='PROJECTS DETAILS'!F9 -> 140000000 | D3: ='PROJECTS DETAILS'!I9 -> 282000000 | E3: ='PROJECTS DETAILS'!J9 -> 0 | F3: =SUM(D3:E3) -> 282000000 | G3: ='PROJECTS DETAILS'!L9 -> 200000000 | H3: ='PROJECTS DETAILS'!M9 -> 0 | I3: =SUM(G3:H3) -> 200000000 | J3: ='PROJECTS DETAILS'!O9 -> -122000000 | K3: =SUM(I3:J3) -> 78000000 | L3: ='PROJECTS DETAILS'!Q9 -> 32000000
A4: 2 | B4: PUBLIC SERVICE BOARD | C4: 0 | D4: 0 | E4: 0 | F4: =SUM(D4:E4) -> 0 | G4: 0 | H4: 0 | I4: =SUM(G4:H4) -> 0 | J4: 0 | K4: =SUM(I4:J4) -> 0 | L4: =SUM(J4:K4) -> 0
A5: 3 | B5: OFFICE OF THE COUNTY ATTORNEY | D5: 0 | G5: 0 | H5: 0 | I5: =SUM(G5:H5) -> 0 | J5: 0 | K5: =SUM(I5:J5) -> 0 | L5: 0
A6: 4 | B6: PUBLIC SERVICE AND COUNTY ADMINISTRATION | C6: ='PROJECTS DETAILS'!F49 -> 40846072 | D6: ='PROJECTS DETAILS'!I49 -> 28257447 | E6: ='PROJECTS DETAILS'!J49 -> 0 | F6: =SUM(D6:E6) -> 28257447 | G6: ='PROJECTS DETAILS'!L49 -> 35186540 | H6: ='PROJECTS DETAILS'!M49 -> 362000000 | I6: =SUM(G6:H6) -> 397186540 | J6: ='PROJECTS DETAILS'!O49 -> -3867420 | K6: =SUM(I6:J6) -> 393319120 | L6: ='PROJECTS DETAILS'!Q49 -> 192186540
A7: 5 | B7: PUBLIC PARTICIPATION, DISASTER SERVICES AND SPECIAL PROGRAMMES | C7: ='PROJECTS DETAILS'!F60 -> 26000000 | D7: ='PROJECTS DETAILS'!I60 -> 6200000 | E7: ='PROJECTS DETAILS'!J60 -> 0 | F7: =SUM(D7:E7) -> 6200000 | G7: ='PROJECTS DETAILS'!L60 -> 0 | H7: ='PROJECTS DETAILS'!M60 -> 50000000 | I7: =SUM(G7:H7) -> 50000000 | J7: ='PROJECTS DETAILS'!O60 -> -50000000 | K7: =SUM(I7:J7) -> 0 | L7: ='PROJECTS DETAILS'!Q60 -> 5000000
A8: 6 | B8: FINANCE AND ACCOUNTING SERVICES | C8: 0 | D8: 0 | E8: 0 | F8: =SUM(D8:E8) -> 0 | G8: 0 | H8: 0 | I8: =SUM(G8:H8) -> 0 | J8: 0 | K8: =SUM(I8:J8) -> 0 | L8: 0
A9: 7 | B9: ECONOMIC PLANNING | C9: ='PROJECTS DETAILS'!F83 -> 93500000 | D9: ='PROJECTS DETAILS'!I83 -> 114307271 | E9: ='PROJECTS DETAILS'!J83 -> -70039172 | F9: =SUM(D9:E9) -> 44268099 | G9: ='PROJECTS DETAILS'!L83 -> 3000000 | H9: ='PROJECTS DETAILS'!M83 -> 34146422 | I9: =SUM(G9:H9) -> 37146422 | J9: ='PROJECTS DETAILS'!O83 -> -27146422 | K9: =SUM(I9:J9) -> 10000000 | L9: ='PROJECTS DETAILS'!Q83 -> 10000000
A10: 8 | B10: AGRICULTURE AND CO-OPERATIVE DEVELOPMENT | C10: ='PROJECTS DETAILS'!F173 -> #REF! | D10: ='PROJECTS DETAILS'!I173 -> #REF! | E10: ='PROJECTS DETAILS'!J173 -> #REF! | F10: =SUM(D10:E10) -> #REF! | G10: ='PROJECTS DETAILS'!L173 -> 306030338 | H10: ='PROJECTS DETAILS'!M173 -> 0 | I10: =SUM(G10:H10) -> 306030338 | J10: ='PROJECTS DETAILS'!O173 -> 0 | K10: =SUM(I10:J10) -> 306030338 | L10: =SUM('PROJECTS DETAILS'!Q173) -> 587798954
A11: 9 | B11: FISHERIES, LIVESTOCK AND VETERINARY SERVICES | C11: ='PROJECTS DETAILS'!F231 -> 0 | D11: ='PROJECTS DETAILS'!I231 -> 0 | E11: ='PROJECTS DETAILS'!J231 -> 0 | F11: =SUM(D11:E11) -> 0 | G11: ='PROJECTS DETAILS'!L229 -> 70230650 | H11: ='PROJECTS DETAILS'!M229 -> 446237966 | I11: =SUM(G11:H11) -> 516468616 | J11: ='PROJECTS DETAILS'!O229 -> -25987400 | K11: =SUM(I11:J11) -> 490481216 | L11: ='PROJECTS DETAILS'!Q229 -> 85450000
A12: 10 | B12: WATER AND SANITATION SERVICES | C12: ='PROJECTS DETAILS'!F739 -> #REF! | D12: ='PROJECTS DETAILS'!I739 -> #REF! | E12: ='PROJECTS DETAILS'!J739 -> #REF! | F12: ='PROJECTS DETAILS'!K739 -> 733678034 | G12: ='PROJECTS DETAILS'!L739 -> 1450692336 | H12: ='PROJECTS DETAILS'!M739 -> -16147249 | I12: =SUM(G12:H12) -> 1434545087 | J12: ='PROJECTS DETAILS'!O739 -> -86000000 | K12: =SUM(I12:J12) -> 1348545087 | L12: ='PROJECTS DETAILS'!Q739 -> 1537810940
A13: 11 | B13: ENERGY, ENVIRONMENT AND NATURAL RESOURCES | C13: 0 | D13: 0 | E13: 0 | F13: =SUM(D13:E13) -> 0 | G13: 0 | H13: 0 | I13: =SUM(G13:H13) -> 0 | J13: 0 | K13: =SUM(I13:J13) -> 0 | L13: 0
A14: 12 | B14: EDUCATION,TECHNICAL TRAINING & INNOVATION | C14: ='PROJECTS DETAILS'!F1169 -> #REF! | D14: ='PROJECTS DETAILS'!I1169 -> #REF! | E14: ='PROJECTS DETAILS'!J1169 -> #REF! | F14: ='PROJECTS DETAILS'!K1169 -> 19574000 | G14: ='PROJECTS DETAILS'!L1169 -> 453456873 | H14: ='PROJECTS DETAILS'!M1169 -> 104100070 | I14: =SUM(G14:H14) -> 557556943 | J14: ='PROJECTS DETAILS'!O1169 -> -5500000 | K14: =SUM(I14:J14) -> 552056943 | L14: =SUM('PROJECTS DETAILS'!Q1169) -> 269519356
A15: 13 | B15: MEDICAL SERVICES | C15: 608228878 | D15: ='PROJECTS DETAILS'!I1481 -> 515525654 | E15: ='PROJECTS DETAILS'!J1481 -> 2000000 | F15: =SUM(D15:E15) -> 517525654 | G15: ='PROJECTS DETAILS'!L1481 -> 882078035 | H15: ='PROJECTS DETAILS'!M1481 -> 41221279 | I15: =SUM(G15:H15) -> 923299314 | J15: ='PROJECTS DETAILS'!O1481 -> -62100000 | K15: =SUM(I15:J15) -> 861199314 | L15: =SUM('PROJECTS DETAILS'!Q1481) -> 1406299314
A16: 14 | B16: PUBLIC HEALTH & SANITATION | C16: 0 | D16: 0 | E16: 0 | F16: =SUM(D16:E16) -> 0 | G16: 0 | H16: 0 | I16: =SUM(G16:H16) -> 0 | J16: 0 | K16: =SUM(I16:J16) -> 0 | L16: 0
A17: 15 | B17: LANDS AND PHYSICAL PLANNING | C17: ='PROJECTS DETAILS'!F1590 -> 100100000 | D17: ='PROJECTS DETAILS'!I1590 -> 153200000 | E17: ='PROJECTS DETAILS'!J1590 -> 0 | F17: =SUM(D17:E17) -> 153200000 | G17: ='PROJECTS DETAILS'!L1590 -> 192690088 | H17: ='PROJECTS DETAILS'!M1590 -> 228000000 | I17: =SUM(G17:H17) -> 420690088 | J17: ='PROJECTS DETAILS'!O1590 -> -51500000 | K17: =SUM(I17:J17) -> 369190088 | L17: =SUM('PROJECTS DETAILS'!Q1590) -> 94503308
A18: 16 | B18: ROADS & INFRASTRUCTURE | C18: ='PROJECTS DETAILS'!F1956 -> #REF! | D18: ='PROJECTS DETAILS'!I1945 -> 1.0294709e+09 | E18: ='PROJECTS DETAILS'!J1945 -> 2969626 | F18: =SUM(D18:E18) -> 1.0324405e+09 | G18: ='PROJECTS DETAILS'!L1946 -> 2320249755 | H18: ='PROJECTS DETAILS'!M1946 -> 376899464 | I18: =SUM(G18:H18) -> 2697149219 | J18: ='PROJECTS DETAILS'!O1946 -> -494006800 | K18: =SUM(I18:J18) -> 2203142419 | L18: ='PROJECTS DETAILS'!Q1946 -> 647228763
A19: 17 | B19: PUBLIC WORKS | C19: 0 | D19: ='PROJECTS DETAILS'!I1955 -> 45000000 | E19: ='PROJECTS DETAILS'!J1955 -> 0 | F19: =SUM(D19:E19) -> 45000000 | G19: ='PROJECTS DETAILS'!L1955 -> 43736125 | H19: ='PROJECTS DETAILS'!M1955 -> 37000000 | I19: =SUM(G19:H19) -> 80736125 | J19: ='PROJECTS DETAILS'!O1955 -> -14000000 | K19: =SUM(I19:J19) -> 66736125 | L19: =SUM('PROJECTS DETAILS'!Q1955) -> 52448427
A20: 18 | B20: TRADE,TOURISM, INDUSTRY AND MARKETING | C20: ='PROJECTS DETAILS'!F2114 -> 19821370 | D20: ='PROJECTS DETAILS'!I2114 -> 351231950 | E20: ='PROJECTS DETAILS'!J2114 -> 0 | F20: =SUM(D20:E20) -> 351231950 | G20: ='PROJECTS DETAILS'!L2114 -> 497732663 | H20: ='PROJECTS DETAILS'!M2114 -> 30191005 | I20: =SUM(G20:H20) -> 527923668 | J20: ='PROJECTS DETAILS'!O2114 -> -35002848 | K20: =SUM(I20:J20) -> 492920820 | L20: ='PROJECTS DETAILS'!Q2114 -> 184211706
A21: 19 | B21: YOUTH ,SPORTS, CULTURE, ARTS AND SOCIAL SERVICES | C21: ='PROJECTS DETAILS'!F2189 -> #REF! | D21: ='PROJECTS DETAILS'!I2189 -> 136000000 | E21: ='PROJECTS DETAILS'!J2189 -> 0 | F21: =SUM(D21:E21) -> 136000000 | G21: ='PROJECTS DETAILS'!L2189 -> 262901048 | H21: ='PROJECTS DETAILS'!M2189 -> -115000000 | I21: =SUM(G21:H21) -> 147901048 | J21: ='PROJECTS DETAILS'!O2189 -> -60500000 | K21: =SUM(I21:J21) -> 87401048 | L21: =SUM('PROJECTS DETAILS'!Q2189) -> 167901048
A22: 20 | B22: KISII MUNICIPALITY | C22: ='PROJECTS DETAILS'!F2217 -> 30258712 | D22: ='PROJECTS DETAILS'!I2217 -> 211251730 | E22: ='PROJECTS DETAILS'!J2217 -> 0 | F22: =SUM(D22:E22) -> 211251730 | G22: ='PROJECTS DETAILS'!L2217 -> 401325016 | H22: ='PROJECTS DETAILS'!M2217 -> 50216914 | I22: =SUM(G22:H22) -> 451541930 | J22: ='PROJECTS DETAILS'!O2217 -> -30993018 | K22: =SUM(I22:J22) -> 420548912 | L22: =SUM('PROJECTS DETAILS'!Q2217) -> 201542912
A23: 21 | B23: OGEMBO MUNICIPALITY | C23: ='PROJECTS DETAILS'!F2230 -> 8000000 | D23: ='PROJECTS DETAILS'!I2230 -> 20000000 | E23: ='PROJECTS DETAILS'!J2230 -> 0 | F23: ='PROJECTS DETAILS'!I2230 -> 20000000 | G23: ='PROJECTS DETAILS'!L2230 -> 59100000 | H23: ='PROJECTS DETAILS'!M2230 -> -11224898 | I23: =SUM(G23:H23) -> 47875102 | J23: ='PROJECTS DETAILS'!O2230 -> -15000000 | K23: =SUM(I23:J23) -> 32875102 | L23: ='PROJECTS DETAILS'!Q2230 -> 17000000
A24: 22 | B24: COUNTY ASSEMBLY | C24: 154491231 | D24: =ASSEMBLY!E221 -> 76722235 | E24: =ASSEMBLY!F221 -> -41242609 | F24: =SUM(D24:E24) -> 35479626 | G24: =ASSEMBLY!H221 -> 18000000 | H24: =ASSEMBLY!I221 -> 0 | I24: =SUM(G24:H24) -> 18000000 | J24: =ASSEMBLY!K221 -> 0 | K24: =SUM(I24:J24) -> 18000000 | L24: =ASSEMBLY!M221 -> 0
B25: TOTAL | C25: =SUM(C3:C24) -> #REF! | D25: =SUM(D3:D24) -> #REF! | E25: =SUM(E3:E24) -> #REF! | F25: =SUM(F3:F24) -> #REF! | G25: =SUM(G3:G24) -> 7196409467 | H25: =SUM(H3:H24) -> 1617640973 | I25: =SUM(I3:I24) -> 8814050440 | J25: =SUM(J3:J24) -> -1083603908 | ... L25: =SUM(L3:L24) -> 5490901268
B29: Recurrent+Dev | G29: =G25+'SUMMARY RECURRENT'!G25 -> #REF! | I29: =I25+'SUMMARY RECURRENT'!I25 -> #REF! | K29: =K25+'SUMMARY RECURRENT'!K25 -> 20160899844 | L29: =L25+'SUMMARY RECURRENT'!L25 -> 17098096082
B30: Total Budget | G30: ='GRAND SUMMARY'!L23 -> 17098096082 | I30: ='GRAND SUMMARY'!#REF! -> #REF! | K30: ='GRAND SUMMARY'!#REF! -> #REF! | L30: ='GRAND SUMMARY'!#REF! -> #REF!
G31: =G29-G30 -> #REF! | I31: =I29-I30 -> #REF! | K31: =K29-K30 -> #REF! | L31: =L29-L30 -> #REF!
A32: Development Ratio | L32: =L25/'GRAND SUMMARY'!L23 -> 0.32114109
H33: =H25+'SUMMARY RECURRENT'!H25 -> #REF!
H34: ='GRAND SUMMARY'!#REF!-'SUMMARY DEVELOP.'!H33 -> #REF! | K34: =K32-K33 -> 0

Sheet SUMMARY RECURRENT
A1: SUMMARY OF RECURRENT EXPENDITURE FY2026/27 PROPOSED BUDGET
B2: DEPARTMENT | C2: APPROVED REVISED BUDGET 2023/24 | D2: APPROVED 1ST REVISED BUDGET 2024/2025 | E2: ADJUSTMENTS | F2: APPROVED 2ND REVISED BUDGET 2024/2025 | G2: APPROVED BUDGET FY 2025/26 | H2: ADJUSTMENT | I2: APPROVED REVISED BUDGET FY 2025/26 | J2: ADJUSTMENT | K2: APPROVED 2ND REVISED BUDGET FY 2025/26 | L2: PROPOSED BUDGET FY 2026/27
A3: 1 | B3: EXECUTIVE OFFICE OF THE GOVERNOR | C3: =EXECUTIVE!C181 -> 385526720 | D3: =EXECUTIVE!H181 -> 3.473504e+08 | E3: =EXECUTIVE!I181 -> 6000000 | F3: =D3+E3 -> 3.533504e+08 | G3: =EXECUTIVE!K181 -> 548744950 | H3: =EXECUTIVE!L181 -> -110500000 | I3: =SUM(G3:H3) -> 438244950 | J3: =EXECUTIVE!N181 -> -217841254 | K3: =SUM(I3:J3) -> 220403696 | L3: =EXECUTIVE!P181 -> 192885050
A4: 2 | B4: PUBLIC SERVICE BOARD | C4: =CPSB!C67 -> 7460000 | D4: =CPSB!H67 -> 7929917 | E4: =CPSB!I67 -> 0 | F4: =D4+E4 -> 7929917 | G4: =CPSB!K67 -> 14870000 | H4: =CPSB!L67 -> 0 | I4: =SUM(G4:H4) -> 14870000 | J4: =CPSB!N67 -> -500000 | K4: =SUM(I4:J4) -> 14370000 | L4: =CPSB!P67 -> 30229900
A5: 3 | B5: OFFICE OF THE COUNTY ATTORNEY | D5: 0 | G5: ='OFFICE OF THE COUNTY ATTORNEY'!L84 -> 60000000 | H5: ='OFFICE OF THE COUNTY ATTORNEY'!M84 -> 7000000 | I5: =SUM(G5:H5) -> 67000000 | J5: ='OFFICE OF THE COUNTY ATTORNEY'!O84 -> 0 | K5: =SUM(I5:J5) -> 67000000 | L5: =SUM('OFFICE OF THE COUNTY ATTORNEY'!Q84) -> 70000000
A6: 4 | B6: PUBLIC SERVICE AND COUNTY ADMINISTRATION | C6: =ADMINISTRATION!C135 -> 479773964 | D6: =ADMINISTRATION!H135 -> 522122232 | E6: =ADMINISTRATION!I135 -> 0 | F6: =D6+E6 -> 522122232 | G6: =ADMINISTRATION!K135 -> 620727563 | H6: =ADMINISTRATION!L135 -> -90200000 | I6: =SUM(G6:H6) -> 530527563 | J6: =ADMINISTRATION!N135 -> -34285000 | K6: =SUM(I6:J6) -> 496242563 | L6: =SUM(ADMINISTRATION!P135) -> 447239103
A7: 5 | B7: PUBLIC PARTICIPATION, DISASTER SERVICES AND SPECIAL PROGRAMMES | C7: =STAKEHOLDER!C91 -> 110353018 | D7: =STAKEHOLDER!H93 -> 83321480 | E7: =STAKEHOLDER!I93 -> 0 | F7: =D7+E7 -> 83321480 | G7: =STAKEHOLDER!K93 -> 53349576 | H7: =STAKEHOLDER!L93 -> 0 | I7: =SUM(G7:H7) -> 53349576 | J7: =STAKEHOLDER!N93 -> 0 | K7: =SUM(I7:J7) -> 53349576 | L7: =SUM(STAKEHOLDER!P93) -> 50149576
A8: 6 | B8: FINANCE AND ACCOUNTING SERVICES | C8: =FINANCE!C225 -> 962189170 | D8: =FINANCE!H225 -> 900249288 | E8: =FINANCE!I225 -> 120219135 | F8: =D8+E8 -> 1020468423 | G8: =FINANCE!K225 -> 1208186160 | H8: =FINANCE!L225 -> -22563631 | I8: =SUM(G8:H8) -> 1185622529 | J8: =FINANCE!N225 -> 191293734 | K8: =SUM(I8:J8) -> 1376916263 | L8: =SUM(FINANCE!P225) -> 1185840916
A9: 7 | B9: ECONOMIC PLANNING | C9: =PLANNING!C177 -> #REF! | D9: =PLANNING!H177 -> #REF! | E9: =PLANNING!I177 -> #REF! | F9: =D9+E9 -> #REF! | G9: =PLANNING!K177 -> #REF! | H9: =PLANNING!L177 -> #REF! | I9: =SUM(G9:H9) -> #REF! | J9: =PLANNING!N177 -> #REF! | K9: =PLANNING!O177 -> 123719642 | L9: =SUM(PLANNING!P177) -> 158918840
A10: 8 | B10: AGRICULTURE AND CO-OPERATIVE DEVELOPMENT | C10: ='AGRIC & COOP'!C206 -> 202025432 | D10: ='AGRIC & COOP'!F206 -> 177851929 | E10: ='AGRIC & COOP'!G206 -> 989400 | F10: =D10+E10 -> 178841329 | G10: ='AGRIC & COOP'!I206 -> 177715432 | H10: ='AGRIC & COOP'!J206 -> 0 | I10: =SUM(G10:H10) -> 177715432 | J10: ='AGRIC & COOP'!L206 -> 28000000 | K10: =SUM(I10:J10) -> 205715432 | L10: =SUM('AGRIC & COOP'!N206) -> 671085167
A11: 9 | B11: FISHERIES, LIVESTOCK AND VETERINARY SERVICES | C11: ='LIVESTOCK & VET'!C144 -> 0 | D11: ='LIVESTOCK & VET'!H144 -> 0 | E11: ='LIVESTOCK & VET'!I144 -> 0 | F11: =D11+E11 -> 0 | G11: ='LIVESTOCK & VET'!K142 -> 111577817 | H11: ='LIVESTOCK & VET'!L142 -> -2043503 | I11: =SUM(G11:H11) -> 109534314 | J11: ='LIVESTOCK & VET'!N142 -> -5059746 | K11: =SUM(I11:J11) -> 104474568 | L11: =SUM('LIVESTOCK & VET'!P142) -> 136224568
A12: 10 | B12: WATER AND SANITATION SERVICES | C12: ='WATER, ENERGY, ENVIRONMENT AND '!C109 -> 127295000 | D12: ='WATER, ENERGY, ENVIRONMENT AND '!H109 -> 125282022 | E12: ='WATER, ENERGY, ENVIRONMENT AND '!I109 -> 920200 | F12: =D12+E12 -> 126202222 | G12: ='WATER, ENERGY, ENVIRONMENT AND '!K109 -> 108686382 | H12: ='WATER, ENERGY, ENVIRONMENT AND '!L109 -> 19100000 | I12: =SUM(G12:H12) -> 127786382 | J12: ='WATER, ENERGY, ENVIRONMENT AND '!N109 -> 505100000 | K12: ='WATER, ENERGY, ENVIRONMENT AND '!O109 -> 632886382 | L12: =SUM('WATER, ENERGY, ENVIRONMENT AND '!P109) -> 127786382
A13: 11 | B13: ENERGY, ENVIRONMENT AND NATURAL RESOURCES | C13: ='ENVIRONMENT '!C9 -> 22000000 | D13: ='ENVIRONMENT '!D9 -> 0 | E13: ='ENVIRONMENT '!E9 -> 0 | F13: ='ENVIRONMENT '!F9 -> 0 | G13: ='ENVIRONMENT '!G9 -> 0 | H13: ='ENVIRONMENT '!H9 -> 0 | I13: =SUM(G13:H13) -> 0 | J13: ='ENVIRONMENT '!J9 -> 0 | K13: =SUM(I13:J13) -> 0 | L13: 0
A14: 12 | B14: EDUCATION,TECHNICAL TRAINING & INNOVATION | C14: =EDUCATION!C97 -> 1035000000 | D14: =EDUCATION!H97 -> 985409200 | E14: =EDUCATION!I97 -> 0 | F14: =D14+E14 -> 985409200 | G14: =EDUCATION!K97 -> 886715305 | H14: =EDUCATION!L97 -> -36610305 | I14: =SUM(G14:H14) -> 850105000 | J14: =EDUCATION!N97 -> 547070000 | K14: =SUM(I14:J14) -> 1397175000 | L14: =SUM(EDUCATION!P97) -> 858535000
A15: 13 | B15: MEDICAL SERVICES | C15: =MEDICAL!C307 -> 2981137498 | D15: =MEDICAL!H307 -> 3373110794 | E15: =MEDICAL!I307 -> 950000 | F15: =D15+E15 -> 3374060794 | G15: =MEDICAL!K109+MEDICAL!K20+MEDICAL!K212+MEDICAL!K306 -> 5309541407 | H15: =MEDICAL!L307 -> -128000000 | I15: =SUM(G15:H15) -> 5181541407 | J15: =MEDICAL!N307 -> 68900000 | K15: =SUM(I15:J15) -> 5250441407 | L15: =SUM(MEDICAL!P307) -> 5677997507
A16: 14 | B16: PUBLIC HEALTH & SANITATION | C16: ='PUBLIC HEALTH'!C95 -> 24530000 | D16: ='PUBLIC HEALTH'!H95 -> 240750000 | E16: ='PUBLIC HEALTH'!I95 -> 195200 | F16: =D16+E16 -> 240945200 | G16: ='PUBLIC HEALTH'!K95 -> 267180000 | H16: ='PUBLIC HEALTH'!L95 -> 92546000 | I16: =SUM(G16:H16) -> 359726000 | J16: ='PUBLIC HEALTH'!N95 -> 21000000 | K16: =SUM(I16:J16) -> 380726000 | L16: =SUM('PUBLIC HEALTH'!P95) -> 183270000
A17: 15 | B17: LANDS AND PHYSICAL PLANNING | C17: =LANDS!C125 -> 145700000 | D17: =LANDS!H125 -> 262100000 | E17: =LANDS!I125 -> -32000000 | F17: =D17+E17 -> 230100000 | G17: =LANDS!K125 -> 250482384 | H17: =LANDS!L125 -> 110987622 | I17: =SUM(G17:H17) -> 361470006 | J17: =LANDS!N125 -> 62000000 | K17: =SUM(I17:J17) -> 423470006 | L17: =SUM(LANDS!P125) -> 256278384
A18: 16 | B18: ROADS & INFRASTRUCTURE | C18: =ROADS!C84 -> 153750000 | D18: =ROADS!H84 -> 140500000 | E18: =ROADS!I84 -> 226200 | F18: =D18+E18 -> 140726200 | G18: =ROADS!K84 -> 159100000 | H18: =ROADS!L84 -> -25971536 | I18: =SUM(G18:H18) -> 133128464 | J18: =ROADS!N84 -> 7400000 | K18: =SUM(I18:J18) -> 140528464 | L18: =SUM(ROADS!P84) -> 126722810
A19: 17 | B19: PUBLIC WORKS | C19: ='PUBLIC WORKS'!C85 -> 35250000 | D19: ='PUBLIC WORKS'!H85 -> 70300000 | E19: ='PUBLIC WORKS'!I85 -> 0 | F19: =D19+E19 -> 70300000 | G19: ='PUBLIC WORKS'!K85 -> 95172750 | H19: ='PUBLIC WORKS'!L85 -> -14000000 | I19: =SUM(G19:H19) -> 81172750 | J19: ='PUBLIC WORKS'!N85 -> -2000000 | K19: =SUM(I19:J19) -> 79172750 | L19: =SUM('PUBLIC WORKS'!P85) -> 73600000
A20: 18 | B20: TRADE,TOURISM, INDUSTRY AND MARKETING | C20: =TRADE!C260 -> 153012240 | D20: =TRADE!H260 -> 80508618 | E20: =TRADE!I260 -> 75344194 | F20: =D20+E20 -> 155852812 | G20: =TRADE!K260 -> 77873042 | H20: =TRADE!L260 -> -2000000 | I20: =SUM(G20:H20) -> 75873042 | J20: =TRADE!N260 -> 3390000 | K20: =SUM(I20:J20) -> 79263042 | L20: =TRADE!P260 -> 80644432
A21: 19 | B21: YOUTH ,SPORTS, CULTURE, ARTS AND SOCIAL SERVICES | C21: =CULTURE!C174 -> #REF! | D21: =CULTURE!H174 -> #REF! | E21: =CULTURE!I174 -> #REF! | F21: =CULTURE!J174 -> 141712345 | G21: =CULTURE!K174 -> 167552345 | H21: =CULTURE!L174 -> 16868000 | I21: =SUM(G21:H21) -> 184420345 | J21: =CULTURE!N174 -> -2790000 | K21: =SUM(I21:J21) -> 181630345 | L21: =SUM(CULTURE!P174) -> 94420345
A22: 20 | B22: KISII MUNICIPALITY | C22: ='KISII MUNICIPALITY'!C102 -> 115000000 | D22: ='KISII MUNICIPALITY'!H102 -> 142957337 | E22: ='KISII MUNICIPALITY'!I102 -> 0 | F22: =D22+E22 -> 142957337 | G22: ='KISII MUNICIPALITY'!K102 -> 104559821 | H22: ='KISII MUNICIPALITY'!L102 -> 12080000 | I22: =SUM(G22:H22) -> 116639821 | J22: ='KISII MUNICIPALITY'!N102 -> 22400000 | K22: =SUM(I22:J22) -> 139039821 | L22: =SUM('KISII MUNICIPALITY'!P102) -> 117035072
A23: 21 | B23: OGEMBO MUNICIPALITY | C23: ='OGEMBO MUNICIPALITY '!C135 -> 14000000 | D23: ='OGEMBO MUNICIPALITY '!H135 -> 14485175 | E23: ='OGEMBO MUNICIPALITY '!I135 -> 13985175 | F23: =D23+E23 -> 28470350 | G23: ='OGEMBO MUNICIPALITY '!K135 -> 14985175 | H23: ='OGEMBO MUNICIPALITY '!L135 -> -3000000 | I23: =SUM(G23:H23) -> 11985175 | J23: ='OGEMBO MUNICIPALITY '!N135 -> 800000 | K23: =SUM(I23:J23) -> 12785175 | L23: =SUM('OGEMBO MUNICIPALITY '!P135) -> 17188582
A24: 22 | B24: COUNTY ASSEMBLY | C24: 1232890743 | D24: =ASSEMBLY!E210 -> 1124637995 | E24: =ASSEMBLY!F210 -> -42768450 | F24: =D24+E24 -> 1081869545 | G24: =ASSEMBLY!H210 -> 1051143180 | H24: =ASSEMBLY!I210 -> 0 | I24: =SUM(G24:H24) -> 1051143180 | J24: =ASSEMBLY!K210 -> 0 | K24: =SUM(I24:J24) -> 1051143180 | L24: =SUM(ASSEMBLY!M223) -> 1051143180
B25: TOTAL | C25: =SUM(C3:C24) -> #REF! | D25: =SUM(D3:D24) -> #REF! | E25: =SUM(E3:E24) -> #REF! | F25: =SUM(F3:F24) -> #REF! | G25: =SUM(G3:G24) -> #REF! | H25: =SUM(H3:H24) -> #REF! | I25: =SUM(I3:I24) -> #REF! | J25: =SUM(J3:J24) -> #REF! | ... L25: =SUM(L3:L24) -> 11607194814
G27: =G25-'GRAND SUMMARY'!E23 -> #REF! | K27: ='GRAND SUMMARY'!K23 -> 20158799844 | L27: ='GRAND SUMMARY'!L23 -> 17098096082
K28: =Revenue!L25 -> 20160899844 | L28: =Revenue!M25 -> 17098096082
K29: =K27-K28 -> -2100000 | L29: =L27-L28 -> 0
K30: =K25+'SUMMARY DEVELOP.'!K25 -> 20160899844 | L30: =L25+'SUMMARY DEVELOP.'!L25 -> 17098096082
K31: =K30-K28 -> 0 | L31: =L30-L28 -> 0

Sheet PEMOLUMENTS SUMMARY
A1: SUMMARY OF PERSONNEL EMOLUMENTS FY2026/27 PROPOSED BUDGET
B2: DEPARTMENT | C2: APPROVED REVISED BUDGET 2023/24 | D2: APPROVED 1ST REVISED BUDGET 2024/2025 | E2: ADJUSTMENTS | F2: APPROVED 2ND REVISED BUDGET 2024/2025 | G2: APPROVED BUDGET FY 2025/26 | H2: ADJUSTMENT | I2: APPROVED REVISED BUDGET FY 2025/26 | J2: ADJUSTMENT | K2: APPROVED 2ND REVISED BUDGET FY 2025/26 | L2: PROPOSED BUDGET FY 2026/27
A3: 1 | B3: EXECUTIVE OFFICE OF THE GOVERNOR | C3: =EXECUTIVE!C181 -> 385526720 | D3: =EXECUTIVE!H181 -> 3.473504e+08 | E3: =EXECUTIVE!I181 -> 6000000 | F3: =D3+E3 -> 3.533504e+08 | G3: ='GRAND SUMMARY'!C4 -> 170000000 | H3: =EXECUTIVE!L16 -> -50000000 | I3: =EXECUTIVE!M16 -> 170000000 | J3: =EXECUTIVE!N16 -> 0 | K3: =I3+J3 -> 170000000 | L3: =EXECUTIVE!P16 -> 170000000
A4: 2 | B4: PUBLIC SERVICE BOARD | C4: =CPSB!C67 -> 7460000 | D4: =CPSB!H67 -> 7929917 | E4: =CPSB!I67 -> 0 | F4: =D4+E4 -> 7929917 | G4: ='GRAND SUMMARY'!C5 -> 0 | H4: 0 | I4: =SUM(G4:H4) -> 0 | J4: 0 | K4: =I4+J4 -> 0 | L4: 0
A5: 3 | B5: OFFICE OF THE COUNTY ATTORNEY | D5: 0 | G5: ='GRAND SUMMARY'!C6 -> 30000000 | H5: ='OFFICE OF THE COUNTY ATTORNEY'!M16 -> 0 | I5: =SUM(G5:H5) -> 30000000 | J5: ='OFFICE OF THE COUNTY ATTORNEY'!O16 -> 0 | K5: =I5+J5 -> 30000000 | L5: =SUM('OFFICE OF THE COUNTY ATTORNEY'!Q16) -> 30000000
A6: 4 | B6: PUBLIC SERVICE AND COUNTY ADMINISTRATION | C6: =ADMINISTRATION!C135 -> 479773964 | D6: =ADMINISTRATION!H135 -> 522122232 | E6: =ADMINISTRATION!I135 -> 0 | F6: =D6+E6 -> 522122232 | G6: ='GRAND SUMMARY'!C7 -> 403820424 | H6: =ADMINISTRATION!L15 -> -100000000 | I6: =ADMINISTRATION!M15 -> 403820424 | J6: =ADMINISTRATION!N15 -> 0 | K6: =I6+J6 -> 403820424 | L6: =SUM(ADMINISTRATION!P15) -> 403820424
A7: 5 | B7: PUBLIC PARTICIPATION, DISASTER SERVICES AND SPECIAL PROGRAMMES | C7: =STAKEHOLDER!C91 -> 110353018 | D7: =STAKEHOLDER!H93 -> 83321480 | E7: =STAKEHOLDER!I93 -> 0 | F7: =D7+E7 -> 83321480 | G7: ='GRAND SUMMARY'!C8 -> 46179576 | H7: =STAKEHOLDER!L13 -> 0 | I7: =STAKEHOLDER!M13 -> 46179576 | J7: =STAKEHOLDER!N13 -> 0 | K7: =I7+J7 -> 46179576 | L7: =SUM(STAKEHOLDER!P13) -> 46179576
A8: 6 | B8: FINANCE AND ACCOUNTING SERVICES | C8: =FINANCE!C225 -> 962189170 | D8: =FINANCE!H225 -> 900249288 | E8: =FINANCE!I225 -> 120219135 | F8: =D8+E8 -> 1020468423 | G8: ='GRAND SUMMARY'!C9 -> 480136160 | H8: =FINANCE!L17 -> -97000000 | I8: =FINANCE!M17 -> 480136160 | J8: =FINANCE!N17 -> 0 | K8: =I8+J8 -> 480136160 | L8: =SUM(FINANCE!P17) -> 457136160
A9: 7 | B9: ECONOMIC PLANNING | C9: =PLANNING!C177 -> #REF! | D9: =PLANNING!H177 -> #REF! | E9: =PLANNING!I177 -> #REF! | F9: =D9+E9 -> #REF! | G9: ='GRAND SUMMARY'!C10 -> 72863840 | H9: =PLANNING!L14 -> 0 | I9: =PLANNING!M14 -> 72863840 | J9: =PLANNING!N14 -> 0 | K9: =I9+J9 -> 72863840 | L9: =SUM(PLANNING!P14) -> 72863840
A10: 8 | B10: AGRICULTURE AND CO-OPERATIVE DEVELOPMENT | C10: ='AGRIC & COOP'!C206 -> 202025432 | D10: ='AGRIC & COOP'!F206 -> 177851929 | E10: ='AGRIC & COOP'!G206 -> 989400 | F10: =D10+E10 -> 178841329 | G10: ='GRAND SUMMARY'!C11 -> 168975432 | H10: ='AGRIC & COOP'!J16 -> 0 | I10: ='AGRIC & COOP'!K16 -> 168975432 | J10: ='AGRIC & COOP'!L16 -> 0 | K10: =I10+J10 -> 168975432 | L10: =SUM('AGRIC & COOP'!N16) -> 168975432
A11: 9 | B11: FISHERIES, LIVESTOCK AND VETERINARY SERVICES | C11: ='LIVESTOCK & VET'!C144 -> 0 | D11: ='LIVESTOCK & VET'!H144 -> 0 | E11: ='LIVESTOCK & VET'!I144 -> 0 | F11: =D11+E11 -> 0 | G11: ='LIVESTOCK & VET'!K15 -> 101024568 | H11: ='LIVESTOCK & VET'!L15 -> 0 | I11: ='LIVESTOCK & VET'!M15 -> 101024568 | J11: ='LIVESTOCK & VET'!N15 -> 0 | K11: =I11+J11 -> 101024568 | L11: ='LIVESTOCK & VET'!P15 -> 101024568
A12: 10 | B12: WATER AND SANITATION SERVICES | C12: ='WATER, ENERGY, ENVIRONMENT AND '!C109 -> 127295000 | D12: ='WATER, ENERGY, ENVIRONMENT AND '!H109 -> 125282022 | E12: ='WATER, ENERGY, ENVIRONMENT AND '!I109 -> 920200 | F12: =D12+E12 -> 126202222 | G12: ='GRAND SUMMARY'!C13 -> 70000000 | H12: ='WATER, ENERGY, ENVIRONMENT AND '!L13 -> 0 | I12: ='WATER, ENERGY, ENVIRONMENT AND '!M13 -> 70000000 | J12: ='WATER, ENERGY, ENVIRONMENT AND '!N13 -> 0 | K12: =I12+J12 -> 70000000 | L12: =SUM('WATER, ENERGY, ENVIRONMENT AND '!P13) -> 70000000
A13: 11 | B13: ENERGY, ENVIRONMENT AND NATURAL RESOURCES | C13: ='ENVIRONMENT '!C9 -> 22000000 | D13: ='ENVIRONMENT '!D9 -> 0 | E13: ='ENVIRONMENT '!E9 -> 0 | F13: ='ENVIRONMENT '!F9 -> 0 | G13: ='ENVIRONMENT '!G9 -> 0 | H13: 0 | I13: =SUM(G13:H13) -> 0 | J13: 0 | K13: =I13+J13 -> 0 | L13: 0
A14: 12 | B14: EDUCATION,TECHNICAL TRAINING & INNOVATION | C14: =EDUCATION!C97 -> 1035000000 | D14: =EDUCATION!H97 -> 985409200 | E14: =EDUCATION!I97 -> 0 | F14: =D14+E14 -> 985409200 | G14: ='GRAND SUMMARY'!C14 -> 450000000 | H14: =EDUCATION!L13 -> -350000000 | I14: =EDUCATION!M13 -> 410000000 | J14: =EDUCATION!N13 -> 40000000 | K14: =I14+J14 -> 450000000 | L14: =SUM(EDUCATION!P13) -> 418000000
A15: 13 | B15: MEDICAL SERVICES | C15: =MEDICAL!C307 -> 2981137498 | D15: =MEDICAL!H307 -> 3373110794 | E15: =MEDICAL!I307 -> 950000 | F15: =D15+E15 -> 3374060794 | G15: ='GRAND SUMMARY'!C15 -> 3341358145 | H15: =MEDICAL!L20 -> -130000000 | I15: =MEDICAL!M20 -> 3293358145 | J15: =MEDICAL!N20 -> 48000000 | K15: =I15+J15 -> 3341358145 | L15: =SUM(MEDICAL!P20) -> 3293358145
A16: 14 | B16: PUBLIC HEALTH & SANITATION | C16: ='PUBLIC HEALTH'!C95 -> 24530000 | D16: ='PUBLIC HEALTH'!H95 -> 240750000 | E16: ='PUBLIC HEALTH'!I95 -> 195200 | F16: =D16+E16 -> 240945200 | G16: 0 | H16: 0 | I16: =SUM(G16:H16) -> 0 | J16: 0 | K16: =I16+J16 -> 0 | L16: 0
A17: 15 | B17: LANDS AND PHYSICAL PLANNING | C17: =LANDS!C125 -> 145700000 | D17: =LANDS!H125 -> 262100000 | E17: =LANDS!I125 -> -32000000 | F17: =D17+E17 -> 230100000 | G17: ='GRAND SUMMARY'!C16 -> 75700000 | H17: =LANDS!L13 -> -10000000 | I17: =LANDS!M13 -> 75700000 | J17: =LANDS!N13 -> 0 | K17: =I17+J17 -> 75700000 | L17: =SUM(LANDS!P13) -> 75700000
A18: 16 | B18: ROADS & INFRASTRUCTURE | C18: =ROADS!C84 -> 153750000 | D18: =ROADS!H84 -> 140500000 | E18: =ROADS!I84 -> 226200 | F18: =D18+E18 -> 140726200 | G18: ='GRAND SUMMARY'!C17 -> 91900000 | H18: =ROADS!L13 -> -50000000 | I18: =ROADS!M13 -> 91900000 | J18: =ROADS!N13 -> 0 | K18: =I18+J18 -> 91900000 | L18: =SUM(ROADS!P13) -> 91900000
A19: 17 | B19: PUBLIC WORKS | C19: ='PUBLIC WORKS'!C85 -> 35250000 | D19: ='PUBLIC WORKS'!H85 -> 70300000 | E19: ='PUBLIC WORKS'!I85 -> 0 | F19: =D19+E19 -> 70300000 | G19: ='GRAND SUMMARY'!C18 -> 58100000 | H19: ='PUBLIC WORKS'!L13 -> -20000000 | I19: ='PUBLIC WORKS'!M13 -> 58100000 | J19: ='PUBLIC WORKS'!N13 -> 0 | K19: =I19+J19 -> 58100000 | L19: =SUM('PUBLIC WORKS'!P13) -> 58100000
A20: 18 | B20: TRADE,TOURISM, INDUSTRY AND MARKETING | C20: =TRADE!C260 -> 153012240 | D20: =TRADE!H260 -> 80508618 | E20: =TRADE!I260 -> 75344194 | F20: =D20+E20 -> 155852812 | G20: ='GRAND SUMMARY'!C19 -> 65000000 | H20: =TRADE!L13 -> 0 | I20: =TRADE!M13 -> 65000000 | J20: =TRADE!N13 -> 0 | K20: =I20+J20 -> 65000000 | L20: =SUM(TRADE!P13) -> 65000000
A21: 19 | B21: YOUTH ,SPORTS, CULTURE, ARTS AND SOCIAL SERVICES | C21: =CULTURE!C174 -> #REF! | D21: =CULTURE!H174 -> #REF! | E21: =CULTURE!I174 -> #REF! | F21: =CULTURE!J174 -> 141712345 | G21: ='GRAND SUMMARY'!C20 -> 70000000 | H21: =CULTURE!L13 -> -10000000 | I21: =CULTURE!M13 -> 70000000 | J21: =CULTURE!N13 -> 0 | K21: =I21+J21 -> 70000000 | L21: =SUM(CULTURE!P13) -> 70000000
A22: 20 | B22: KISII MUNICIPALITY | C22: ='KISII MUNICIPALITY'!C102 -> 115000000 | D22: ='KISII MUNICIPALITY'!H102 -> 142957337 | E22: ='KISII MUNICIPALITY'!I102 -> 0 | F22: =D22+E22 -> 142957337 | G22: ='GRAND SUMMARY'!C21 -> 91602484 | H22: ='KISII MUNICIPALITY'!L13 -> 0 | I22: ='KISII MUNICIPALITY'!M13 -> 91602484 | J22: ='KISII MUNICIPALITY'!N13 -> 0 | K22: =I22+J22 -> 91602484 | L22: =SUM('KISII MUNICIPALITY'!P13) -> 92000000
A23: 21 | B23: OGEMBO MUNICIPALITY | C23: ='OGEMBO MUNICIPALITY '!C135 -> 14000000 | D23: ='OGEMBO MUNICIPALITY '!H135 -> 14485175 | E23: ='OGEMBO MUNICIPALITY '!I135 -> 13985175 | F23: =D23+E23 -> 28470350 | G23: ='GRAND SUMMARY'!C22 -> 4300000 | H23: ='OGEMBO MUNICIPALITY '!L13 -> 0 | I23: ='OGEMBO MUNICIPALITY '!M13 -> 4300000 | J23: ='OGEMBO MUNICIPALITY '!N13 -> 0 | K23: =I23+J23 -> 4300000 | L23: =SUM('OGEMBO MUNICIPALITY '!P13) -> 4300000
A24: 22 | B24: COUNTY ASSEMBLY | C24: 1232890743 | D24: =ASSEMBLY!E210 -> 1124637995 | E24: =ASSEMBLY!F210 -> -42768450 | F24: =D24+E24 -> 1081869545 | G24: ='GRAND SUMMARY'!C3 -> 652341142 | H24: =ASSEMBLY!I103 -> 0 | I24: =ASSEMBLY!J103 -> 652341142 | J24: =ASSEMBLY!K103 -> 0 | K24: =I24+J24 -> 652341142 | L24: =SUM(ASSEMBLY!M103) -> 706064570
B25: TOTAL | C25: =SUM(C3:C24) -> #REF! | D25: =SUM(D3:D24) -> #REF! | E25: =SUM(E3:E24) -> #REF! | F25: =SUM(F3:F24) -> #REF! | G25: =SUM(G3:G24) -> 6443301771 | H25: =SUM(H3:H24) -> -817000000 | I25: =SUM(I3:I24) -> 6355301771 | J25: =SUM(J3:J24) -> 88000000 | ... L25: =SUM(L3:L24) -> 6394422715
B27: PE/Total Revenue | K27: =K25/'GRAND SUMMARY'!L23 -> 0.37684323 | L27: =L25/'GRAND SUMMARY'!L23 -> 0.37398449

Sheet O & M SUMMARY
A1: SUMMARY OF PERSONNEL EMOLUMENTS FY2026/27 PROPOSED BUDGET
B2: DEPARTMENT | C2: APPROVED REVISED BUDGET 2023/24 | D2: APPROVED 1ST REVISED BUDGET 2024/2025 | E2: ADJUSTMENTS | F2: APPROVED 2ND REVISED BUDGET 2024/2025 | G2: APPROVED BUDGET FY 2025/26 | H2: ADJUSTMENT | I2: APPROVED REVISED BUDGET FY 2025/26 | J2: ADJUSTMENT | K2: APPROVED 2ND REVISED BUDGET FY 2025/26 | L2: PROPOSED BUDGET FY 2026/27
A3: 1 | B3: EXECUTIVE OFFICE OF THE GOVERNOR | C3: =EXECUTIVE!C181 -> 385526720 | D3: =EXECUTIVE!H181 -> 3.473504e+08 | E3: =EXECUTIVE!I181 -> 6000000 | F3: =D3+E3 -> 3.533504e+08 | G3: ='GRAND SUMMARY'!C4 -> 170000000 | H3: =EXECUTIVE!L16 -> -50000000 | I3: =EXECUTIVE!M16 -> 170000000 | J3: =EXECUTIVE!N16 -> 0 | K3: =EXECUTIVE!O180 -> 50403696 | L3: =EXECUTIVE!P180 -> 22885050
A4: 2 | B4: PUBLIC SERVICE BOARD | C4: =CPSB!C67 -> 7460000 | D4: =CPSB!H67 -> 7929917 | E4: =CPSB!I67 -> 0 | F4: =D4+E4 -> 7929917 | G4: ='GRAND SUMMARY'!C5 -> 0 | H4: 0 | I4: =SUM(G4:H4) -> 0 | J4: 0 | K4: =CPSB!O67 -> 14370000 | L4: =CPSB!P67 -> 30229900
A5: 3 | B5: OFFICE OF THE COUNTY ATTORNEY | D5: 0 | G5: ='GRAND SUMMARY'!C6 -> 30000000 | H5: ='OFFICE OF THE COUNTY ATTORNEY'!M16 -> 0 | I5: =SUM(G5:H5) -> 30000000 | J5: ='OFFICE OF THE COUNTY ATTORNEY'!O16 -> 0 | K5: ='OFFICE OF THE COUNTY ATTORNEY'!P83 -> 37000000 | L5: ='OFFICE OF THE COUNTY ATTORNEY'!Q83 -> 40000000
A6: 4 | B6: PUBLIC SERVICE AND COUNTY ADMINISTRATION | C6: =ADMINISTRATION!C135 -> 479773964 | D6: =ADMINISTRATION!H135 -> 522122232 | E6: =ADMINISTRATION!I135 -> 0 | F6: =D6+E6 -> 522122232 | G6: ='GRAND SUMMARY'!C7 -> 403820424 | H6: =ADMINISTRATION!L15 -> -100000000 | I6: =ADMINISTRATION!M15 -> 403820424 | J6: =ADMINISTRATION!N15 -> 0 | K6: =ADMINISTRATION!O134 -> 92422139 | L6: =ADMINISTRATION!P134 -> 43418679
A7: 5 | B7: PUBLIC PARTICIPATION, DISASTER SERVICES AND SPECIAL PROGRAMMES | C7: =STAKEHOLDER!C91 -> 110353018 | D7: =STAKEHOLDER!H93 -> 83321480 | E7: =STAKEHOLDER!I93 -> 0 | F7: =D7+E7 -> 83321480 | G7: ='GRAND SUMMARY'!C8 -> 46179576 | H7: =STAKEHOLDER!L13 -> 0 | I7: =STAKEHOLDER!M13 -> 46179576 | J7: =STAKEHOLDER!N13 -> 0 | K7: =STAKEHOLDER!O90 -> 7170000 | L7: =STAKEHOLDER!P90 -> 3970000
A8: 6 | B8: FINANCE AND ACCOUNTING SERVICES | C8: =FINANCE!C225 -> 962189170 | D8: =FINANCE!H225 -> 900249288 | E8: =FINANCE!I225 -> 120219135 | F8: =D8+E8 -> 1020468423 | G8: ='GRAND SUMMARY'!C9 -> 480136160 | H8: =FINANCE!L17 -> -97000000 | I8: =FINANCE!M17 -> 480136160 | J8: =FINANCE!N17 -> 0 | K8: =FINANCE!O224 -> 896780103 | L8: =FINANCE!P224 -> 728704756
A9: 7 | B9: ECONOMIC PLANNING | C9: =PLANNING!C177 -> #REF! | D9: =PLANNING!H177 -> #REF! | E9: =PLANNING!I177 -> #REF! | F9: =D9+E9 -> #REF! | G9: ='GRAND SUMMARY'!C10 -> 72863840 | H9: =PLANNING!L14 -> 0 | I9: =PLANNING!M14 -> 72863840 | J9: =PLANNING!N14 -> 0 | K9: =PLANNING!O176 -> 50855802 | L9: =PLANNING!P176 -> 86055000
A10: 8 | B10: AGRICULTURE AND CO-OPERATIVE DEVELOPMENT | C10: ='AGRIC & COOP'!C206 -> 202025432 | D10: ='AGRIC & COOP'!F206 -> 177851929 | E10: ='AGRIC & COOP'!G206 -> 989400 | F10: =D10+E10 -> 178841329 | G10: ='GRAND SUMMARY'!C11 -> 168975432 | H10: ='AGRIC & COOP'!J16 -> 0 | I10: ='AGRIC & COOP'!K16 -> 168975432 | J10: ='AGRIC & COOP'!L16 -> 0 | K10: ='AGRIC & COOP'!M205 -> 36740000 | L10: ='AGRIC & COOP'!N205 -> 502109735
A11: 9 | B11: FISHERIES, LIVESTOCK AND VETERINARY SERVICES | C11: ='LIVESTOCK & VET'!C144 -> 0 | D11: ='LIVESTOCK & VET'!H144 -> 0 | E11: ='LIVESTOCK & VET'!I144 -> 0 | F11: =D11+E11 -> 0 | G11: ='LIVESTOCK & VET'!K15 -> 101024568 | H11: ='LIVESTOCK & VET'!L15 -> 0 | I11: ='LIVESTOCK & VET'!M15 -> 101024568 | J11: ='LIVESTOCK & VET'!N15 -> 0 | K11: ='LIVESTOCK & VET'!O140 -> 3450000 | L11: ='LIVESTOCK & VET'!P140 -> 35200000
A12: 10 | B12: WATER AND SANITATION SERVICES | C12: ='WATER, ENERGY, ENVIRONMENT AND '!C109 -> 127295000 | D12: ='WATER, ENERGY, ENVIRONMENT AND '!H109 -> 125282022 | E12: ='WATER, ENERGY, ENVIRONMENT AND '!I109 -> 920200 | F12: =D12+E12 -> 126202222 | G12: ='GRAND SUMMARY'!C13 -> 70000000 | H12: ='WATER, ENERGY, ENVIRONMENT AND '!L13 -> 0 | I12: ='WATER, ENERGY, ENVIRONMENT AND '!M13 -> 70000000 | J12: ='WATER, ENERGY, ENVIRONMENT AND '!N13 -> 0 | K12: ='WATER, ENERGY, ENVIRONMENT AND '!O108 -> 562886382 | L12: ='WATER, ENERGY, ENVIRONMENT AND '!P108 -> 57786382
A13: 11 | B13: ENERGY, ENVIRONMENT AND NATURAL RESOURCES | C13: ='ENVIRONMENT '!C9 -> 22000000 | D13: ='ENVIRONMENT '!D9 -> 0 | E13: ='ENVIRONMENT '!E9 -> 0 | F13: ='ENVIRONMENT '!F9 -> 0 | G13: ='ENVIRONMENT '!G9 -> 0 | H13: 0 | I13: =SUM(G13:H13) -> 0 | J13: 0 | K13: =I13+J13 -> 0 | L13: =J13+K13 -> 0
A14: 12 | B14: EDUCATION,TECHNICAL TRAINING & INNOVATION | C14: =EDUCATION!C97 -> 1035000000 | D14: =EDUCATION!H97 -> 985409200 | E14: =EDUCATION!I97 -> 0 | F14: =D14+E14 -> 985409200 | G14: ='GRAND SUMMARY'!C14 -> 450000000 | H14: =EDUCATION!L13 -> -350000000 | I14: =EDUCATION!M13 -> 410000000 | J14: =EDUCATION!N13 -> 40000000 | K14: =EDUCATION!O96 -> 947175000 | L14: =EDUCATION!P96 -> 440535000
A15: 13 | B15: MEDICAL SERVICES | C15: =MEDICAL!C307 -> 2981137498 | D15: =MEDICAL!H307 -> 3373110794 | E15: =MEDICAL!I307 -> 950000 | F15: =D15+E15 -> 3374060794 | G15: ='GRAND SUMMARY'!C15 -> 3341358145 | H15: =MEDICAL!L20 -> -130000000 | I15: =MEDICAL!M20 -> 3293358145 | J15: =MEDICAL!N20 -> 48000000 | K15: =MEDICAL!O109+MEDICAL!O212+MEDICAL!O306 -> 1906983262 | L15: =MEDICAL!P109+MEDICAL!P212+MEDICAL!P306 -> 2384639362
A16: 14 | B16: PUBLIC HEALTH & SANITATION | C16: ='PUBLIC HEALTH'!C95 -> 24530000 | D16: ='PUBLIC HEALTH'!H95 -> 240750000 | E16: ='PUBLIC HEALTH'!I95 -> 195200 | F16: =D16+E16 -> 240945200 | G16: 0 | H16: 0 | I16: =SUM(G16:H16) -> 0 | J16: 0 | K16: ='PUBLIC HEALTH'!O95 -> 380726000 | L16: ='PUBLIC HEALTH'!P95 -> 183270000
A17: 15 | B17: LANDS AND PHYSICAL PLANNING | C17: =LANDS!C125 -> 145700000 | D17: =LANDS!H125 -> 262100000 | E17: =LANDS!I125 -> -32000000 | F17: =D17+E17 -> 230100000 | G17: ='GRAND SUMMARY'!C16 -> 75700000 | H17: =LANDS!L13 -> -10000000 | I17: =LANDS!M13 -> 75700000 | J17: =LANDS!N13 -> 0 | K17: =LANDS!O124 -> 347770006 | L17: =LANDS!P124 -> 180578384
A18: 16 | B18: ROADS & INFRASTRUCTURE | C18: =ROADS!C84 -> 153750000 | D18: =ROADS!H84 -> 140500000 | E18: =ROADS!I84 -> 226200 | F18: =D18+E18 -> 140726200 | G18: ='GRAND SUMMARY'!C17 -> 91900000 | H18: =ROADS!L13 -> -50000000 | I18: =ROADS!M13 -> 91900000 | J18: =ROADS!N13 -> 0 | K18: =ROADS!O83 -> 48628464 | L18: =ROADS!P83 -> 34822810
A19: 17 | B19: PUBLIC WORKS | C19: ='PUBLIC WORKS'!C85 -> 35250000 | D19: ='PUBLIC WORKS'!H85 -> 70300000 | E19: ='PUBLIC WORKS'!I85 -> 0 | F19: =D19+E19 -> 70300000 | G19: ='GRAND SUMMARY'!C18 -> 58100000 | H19: ='PUBLIC WORKS'!L13 -> -20000000 | I19: ='PUBLIC WORKS'!M13 -> 58100000 | J19: ='PUBLIC WORKS'!N13 -> 0 | K19: ='PUBLIC WORKS'!O71 -> 21072750 | L19: ='PUBLIC WORKS'!P71 -> 15500000
A20: 18 | B20: TRADE,TOURISM, INDUSTRY AND MARKETING | C20: =TRADE!C260 -> 153012240 | D20: =TRADE!H260 -> 80508618 | E20: =TRADE!I260 -> 75344194 | F20: =D20+E20 -> 155852812 | G20: ='GRAND SUMMARY'!C19 -> 65000000 | H20: =TRADE!L13 -> 0 | I20: =TRADE!M13 -> 65000000 | J20: =TRADE!N13 -> 0 | K20: =TRADE!O259 -> 14263042 | L20: =TRADE!P259 -> 15644432
A21: 19 | B21: YOUTH ,SPORTS, CULTURE, ARTS AND SOCIAL SERVICES | C21: =CULTURE!C174 -> #REF! | D21: =CULTURE!H174 -> #REF! | E21: =CULTURE!I174 -> #REF! | F21: =CULTURE!J174 -> 141712345 | G21: ='GRAND SUMMARY'!C20 -> 70000000 | H21: =CULTURE!L13 -> -10000000 | I21: =CULTURE!M13 -> 70000000 | J21: =CULTURE!N13 -> 0 | K21: =CULTURE!O173 -> 111630345 | L21: =CULTURE!P173 -> 24420345
